Workbook
Name \A: #REF!
Name \A: #REF!
Name \B: #REF!
Name \B: #REF!
Name \C: #REF!
Name \C: #REF!
Name \D: #REF!
Name \E: #REF!
Name \F: #REF!
Name \G: #REF!
Name \H: #REF!
Name \H: #REF!
Name \I: #REF!
Name \L: #REF!
Name \L: #REF!
Name \M: #REF!
Name \P: #REF!
Name \S: #REF!
Name \Y: #REF!
Name \Z: #REF!
Name _____TOT58: #REF!
Name _____TOT58: #REF!
Name ____DDD: #REF!
Name ____DDD: #REF!
Name ____DDD: #REF!
Name ____TOT58: #REF!
Name ____TOT58: #REF!
Name ___C: #REF!
Name ___C: #REF!
Name ___C: #REF!
Name ___RR: #REF!
Name ___RR: #REF!
Name ___RR: #REF!
Name ___TOT58: #REF!
Name ___TOT58: #REF!
Name __3896: #REF!
Name __3896: #REF!
Name __C: 'G III.9.4'!#REF!
Name __C: #REF!
Name __TOT58: #REF!
Name __TOT58: #REF!
Name _0012TC: #REF!
Name _0012TC: #REF!
Name _0106TC: #REF!
Name _0112TC: #REF!
Name _1: #REF!
Name _1INT_DEBT: #REF!
Name _1INT_DEBT: #REF!
Name _1INT_DEBT: #REF!
Name _2: #REF!
Name _2: #REF!
Name _3: #REF!
Name _88: #REF!
Name _89: #REF!
Name _a94: #REF!
Name _a94: #REF!
Name _a95: #REF!
Name _aaV110: #REF!
Name _aaV110: #REF!
Name _aIV114: #REF!

Sheet Índice
A1: Índice
A3: Capítulo I. Situación macroeconómica y fiscal 2026
A4: ='G I.3.1'!A1 -> Gráfico I.3.1 | B4: ='G I.3.1'!A2 -> Diferencia en los ingresos estructurales 2026 (p)
A5: ='G I.4.1'!A1 -> Gráfico I.4.1 | B5: ='G I.4.1'!A2 -> Actualización del balance cíclicamente ajustado 2026 (p)
A6: ='G I.5.1'!A1 -> Gráfico I.5.1 | B6: ='G I.5.1'!A2 -> Stock de deuda bruta 2026 (p)
A8: Capítulo II. Proyecto de Ley de Presupuestos para el Sector Público correspondiente al año 2027
A9: ='G II.3.1'!A1 -> Gráfico II.3.1 | B9: ='G II.3.1'!A2 -> Cambio de brechas estructurales
A10: ='G II.3.2'!A1 -> Gráfico II.3.2 | B10: ='G II.3.2'!A2 -> Diferencia en los ingresos estructurales 2027 (p)
A11: ='G II.3.3'!A1 -> Gráfico II.3.3 | B11: ='G II.3.3'!A2 -> Ingresos efectivos, ajustes cíclicos e ingresos estructurales 2027 (p)
A12: ='G II.6.1'!A1 -> Gráfico II.6.1 | B12: ='G II.6.1'!A2 -> Stock de deuda bruta 2020-2027 (p)
A13: ='G II.6.2'!A1 -> Gráfico II.6.2 | B13: ='G II.6.2'!A2 -> Amortizaciones de deuda proyectadas Ley de Presupuestos de cada año e IFP 3T26 (p)
A15: Capítulo III. Marco de mediano plazo del Sector Público 2028-2031
A16: ='G III.9.1'!A1 -> Gráfico III.9.1 | B16: ='G III.9.1'!A2 -> Deuda bruta del Gobierno Central 2020-2031 (p)(1)
A17: ='G III.9.2'!A1 -> Gráfico III.9.2 | B17: ='G III.9.2'!A2 -> Descomposición anual proyección de la deuda (p)(1)
A18: ='G III.9.3'!A1 -> Gráfico III.9.3 | B18: ='G III.9.3'!A2 -> Gasto por intereses presupuestarios 2027-2031 (p)
A19: ='G III.9.4'!A1 -> Gráfico III.9.4 | B19: ='G III.9.4'!A2 -> Perfil de vencimiento de la deuda bruta del Gobierno Central (p)
A20: ='G III.11.1'!A1 -> Gráfico III.11.1 | B20: ='G III.11.1'!A2 -> Diferencia de ingresos totales por año con respecto al escenario base
A21: ='G III.11.2'!A1 -> Gráfico III.11.2 | B21: ='G III.11.2'!A2 -> Diferencia de ingresos estructurales por año con respecto al escenario base
A22: ='G III.11.3'!A1 -> Gráfico III.11.3 | B22: ='G III.11.3'!A2 -> Balance efectivo por año en cada escenario
A23: ='G III.11.4'!A1 -> Gráfico III.11.4 | B23: ='G III.11.4'!A2 -> Balance estructural por año en cada escenario
A24: ='G III.11.5'!A1 -> Gráfico III.11.5 | B24: ='G III.11.5'!A2 -> Diferencia en holguras con respecto al escenario base
A25: ='G III.11.6'!$A$1 -> Gráfico III.11.6 | B25: ='G III.11.6'!$A$2 -> Deuda bruta del Gobierno Central 1990-2031 (p)
A27: Capítulo IV. Sistema de monitoreo y evaluación
A28: ='G IV.1.1'!A1 -> Gráfico IV.1.1 | B28: ='G IV.1.1'!A2 -> Número de programas ingresados a evaluación ex ante 2027 según tipo de oferta y calificación
A29: ='G IV.1.2'!A1 -> Gráfico IV.1.2 | B29: ='G IV.1.2'!A2 -> Número de programas ingresados a evaluación ex ante según tipo de oferta (social y no social) período 2019-2026
A30: ='G IV.1.3'!A1 -> Gráfico IV.1.3 | B30: ='G IV.1.3'!A2 -> Calificación por tipo de oferta (social y no social) 2027
A31: ='G IV.1.4'!A1 -> Gráfico IV.1.4 | B31: ='G IV.1.4'!A2 -> Perfiles de iniciativas presentadas al proceso evaluación ex ante GORE (año 2026)
A32: ='G IV.1.5'!A1 -> Gráfico IV.1.5 | B32: ='G IV.1.5'!A2 -> Número de programas y ámbito en proceso evaluación ex ante GORE (año 2026)
A33: ='G IV.1.6'!A1 -> Gráfico IV.1.6 | B33: ='G IV.1.6'!A2 -> Variación porcentual promedio programas condicionados procesos presupuestarios 2026 y 2027, solo programas con identificación presupuestaria directa
A34: ='G IV.1.7'!A1 -> Gráfico IV.1.7 | B34: ='G IV.1.7'!A2 -> Variación porcentual de los recursos asignados a los programas que ingresan al proceso de evaluación ex ante 2027, solo programas con identificación presupuestaria directa
A35: ='G IV.1.8'!A1 -> Gráfico IV.1.8 | B35: ='G IV.1.8'!A2 -> Variación promedio de proyecto de ley de Presupuestos 2027, según tipología (N=48)
A37: Capítulo VI. Avances institucionales en transparencia fiscal y presupuestaria
A38: ='G VI.1.1'!A1 -> Gráfico VI.1.1 | B38: ='G VI.1.1'!A2 -> Gastos Reservados de la Administración Civil del Gobierno Central
A39: ='G VI.1.2'!A1 -> Gráfico VI.1.2 | B39: ='G VI.1.2'!A2 -> Gastos Reservados de las Fuerzas Armadas
A40: ='G VI.1.3'!A1 -> Gráfico VI.1.3 | B40: ='G VI.1.3'!A2 -> Gasto autorizado máximo en honorarios
A41: ='G VI.1.4'!A1 -> Gráfico VI.1.4 | B41: ='G VI.1.4'!A2 -> Cupos de honorarios y asesores de autoridad
A43: Recuadro 1. Flujos fiscales del Crédito con Aval del Estado (CAE): evolución y avances recientes
A44: ='G R.1.1'!A1 -> Gráfico R.1.1 | B44: ='G R.1.1'!A2 -> Número de créditos CAE por etapa (2006-2025)
A45: ='G R.1.2'!A1 -> Gráfico R.1.2 | B45: ='G R.1.2'!A2 -> Gastos y desembolsos fiscales anuales 2006-2025
A46: ='G R.1.3'!A1 -> Gráfico R.1.3 | B46: ='G R.1.3'!A2 -> Ingresos fiscales anuales 2006-2025
...

Sheet G I.3.1
A1: Gráfico I.3.1
A2: Diferencia en los ingresos estructurales 2026 (p)
A3: IFP 3T26 - IFP 2T26
A4: (millones de pesos 2026)
A6: IFP 2T26 | B6: 77470122
A7: Efectivos ITNM+IPS | B7: -198796.01
A8: Efectivos GMP10 | B8: 608005.62
A9: Efectivos Codelco (cobre) | B9: 188775.3
A10: Efectivos resto | B10: 367538.94
A11: AC PIB no minero | B11: 847257.47
A12: AC cobre | B12: -621369.92
A13: IFP 3T26 | B13: 78661534
A14: ITNM: ingresos tributarios no mineros; IPS: imposiciones previsionales de salud; AC: ajuste cíclico.
A18: Nota: El ajuste cíclico se presenta con signo opuesto para representar su efecto sobre los ingresos estructurales.
A22: Fuente: Dipres.

Sheet G I.4.1
A1: Gráfico I.4.1
A2: Actualización del balance cíclicamente ajustado 2026 (p)
A3: (% del PIB)
A5: IFP 2T26 | B5: -2.6
A6: Efectivos ITNM+IPS | B6: -0.053885603
A7: Efectivos GMP10 | B7: 0.16480587
A8: Efectivos Codelco (cobre) | B8: 0.051169389
A9: Efectivos resto | B9: 0.099625023
A10: AC PIB no minero | B10: 0.22965742
A11: AC cobre | B11: -0.16842839
A12: Gasto | B12: -0.091347144
A13: PIB nominal | B13: 0.032098491
A14: IFP 3T26 | B14: -2.3363049
A15: ITNM: ingresos tributarios no mineros; IPS: imposiciones previsionales de salud; AC: ajuste cíclico. (1) Las diferencias se calculan en pesos nominales y luego se expresan como porcentaje del PIB proyectado de este informe. Sin embargo, el IFP 2T26 se calculó utilizando la proyección de PIB disponible en ese momento. Debido a esta diferencia en la base de comparación, se incorpora un ajuste denominado 'diferencia PIB nominal'.
A23: Fuente: Dipres.

Sheet G I.5.1
A1: Gráfico I.5.1
A2: Stock de deuda bruta 2026 (p)
A3: Descomposición diferencias IFP 3T26 - 2T26
A4: (% del PIB)
B6: 2026
A7: IFP 2T26 | B7: 42.660731
A8: Valorización | B8: 0.15883189
A9: PIB nominal | B9: -0.52863205
A10: Requerimientos bajo la línea | B10: 0.57450428
A11: Balance | B11: -0.17036753
A12: IFP 3T26 | B12: 42.695068
A13: Nota: Efecto valorización contiene cambios en el stock de deuda por dólar, euro e inflación.
A17: Fuente: Dipres.

Sheet G II.3.1
A1: Gráfico II.3.1
A2: Cambio de brechas estructurales
B4: Brecha PIB no minero
B5: t-1 | C5: t
A6: IFP 2T26 | B6: 1.12 | C6: 0.2
A7: IFP 3T26 | B7: 1.38 | C7: 0.69
B9: Brecha precio del cobre
B10: BML
A11: IFP 2T26 | B11: -18.591233
A12: IFP 3T26 | B12: -4.9289253
A13: Nota: Parámetros estructurales estimados por los Comités reunidos para el Presupuesto 2026 (julio de 2025) en el IFP 2T26 y para el Presupuesto 2027 (julio de 2026) en el IFP 3T26.
A18: Fuente: Dipres.

Sheet G II.3.2
A1: Gráfico II.3.2
A2: Diferencia en los ingresos estructurales 2027 (p)
A3: IFP 3T26 - IFP 2T26
A4: (millones de pesos 2027)
A6: IFP 2T26 | B6: 81703945
A7: Efectivos ITNM+IPS | B7: -99490.53
A8: Efectivos GMP10 | B8: 419497.58
A9: Efectivos Codelco (cobre) | B9: -312646.33
A10: Efectivos resto | B10: 352865.04
A11: AC PIB no minero | B11: 443886.57
A12: AC cobre | B12: 1740011.6
A13: IFP 3T26 | B13: 84248069
A14: ITNM: ingresos tributarios no mineros; IPS: imposiciones previsionales de salud; AC: ajuste cíclico.
A18: Nota: El ajuste cíclico se presenta con signo opuesto para representar su efecto sobre los ingresos estructurales.
A22: Fuente: Dipres.

Sheet G II.3.3
A1: Gráfico II.3.3
A2: Ingresos efectivos, ajustes cíclicos e ingresos estructurales 2027 (p)
A3: (millones de pesos 2027)
B5: 2027
A6: Ingresos efectivos | B6: 84424236
A7: AC PIB no minero | B7: 470597.45
A8: AC cobre GMP10 | B8: -472744.62
A9: AC cobre Codelco | B9: -174019.03
A10: AC litio | B10: 0
A11: Ingresos estructurales | B11: 84248069
A12: Nota: El ajuste cíclico se presenta con signo opuesto para representar su efecto sobre los ingresos estructurales.
A17: (p) Proyección.
A18: Fuente: Dipres.

Sheet G II.6.1
A1: Gráfico II.6.1
A2: Stock de deuda bruta 2020-2027 (p)
A3: (% del PIB)
B5: 2020 | C5: 2021 | D5: 2022 | E5: 2023 | F5: 2024 | G5: 2025 | H5: 2026p | I5: 2027p
A6: Deuda bruta | B6: 32.352589 | C6: 36.447857 | D6: 37.907331 | E6: 39.415191 | F6: 41.650002 | G6: 41.536318 | H6: 42.695068
A7: IFP 2T26 | H7: 42.660731 | I7: 43.530959
A8: IFP 3T26 | H8: 42.695068 | I8: 42.501724
A9: (p) Proyección.
A10: Fuente: Dipres.

Sheet G II.6.2
A1: Gráfico II.6.2
A2: Amortizaciones de deuda proyectadas Ley de Presupuestos de cada año e IFP 3T26 (p)
A3: (millones de dólares)
B5: MMUS$
A6: 2011 | B6: 252.83
A7: 2012 | B7: 903.81356
A8: 2013 | B8: 1065.0101
A9: 2014 | B9: 1166.3352
A10: 2015 | B10: 2153.9726
A11: 2016 | B11: 297.22571
A12: 2017 | B12: 1710.8729
A13: 2018 | B13: 1680.1077
A14: 2019 | B14: 1575.2854
A15: 2020 | B15: 2733.9982
A16: 2021 | B16: 7644.3152
A17: 2022 | B17: 3584.6563
... A22: 2027 | B22: 17422.915
A23: Nota: Corresponden a las amortizaciones proyectadas en IFP que acompañó a la Ley de Presupuestos de cada año.
A27: (p): Proyección.
A28: Fuente: Dipres.

Sheet G III.9.1
A1: Gráfico III.9.1
A2: Deuda bruta del Gobierno Central 2020-2031 (p)(1)
A3: (% del PIB)
B5: 2020 | C5: 2021 | D5: 2022 | E5: 2023 | F5: 2024 | G5: 2025 | H5: 2026p | I5: 2027p | J5: 2028p | K5: 2029p | L5: 2030p | M5: 2031p
A6: Deuda bruta | B6: 32.352589 | C6: 36.447857 | D6: 37.907331 | E6: 39.415191 | F6: 41.650002 | G6: 41.536318 | H6: 42.695068
A7: IFP 2T26 | H7: 42.660731 | I7: 43.530959 | J7: 44.542831 | K7: 45.263883 | L7: 45.476659
A8: IFP 3T26 | H8: 42.695068 | I8: 42.501724 | J8: 43.496358 | K8: 44.003334 | L8: 43.961417 | M8: 43.179446
A9: Nivel prudente | B9: 45 | C9: 45 | D9: 45 | E9: 45 | F9: 45 | G9: 45 | H9: 45 | I9: 45 | J9: 45 | K9: 45 | L9: 45 | M9: 45
A10: (1) PIB de cada informe.
A11: (p) Proyección.
A12: Fuente: Dipres.

Sheet G III.9.2
A1: Gráfico III.9.2
A2: Descomposición anual proyección de la deuda (p)(1)
A3: (% del PIB)
B5: 2027 | C5: 2028 | D5: 2029 | E5: 2030 | F5: 2031
A6: Variación de la deuda | B6: -0.19334376 | C6: 0.99463436 | D6: 0.50697533 | E6: -0.041916409 | F6: -0.78197142
A7: Déficit | B7: 1.7542277 | C7: 2.0167777 | D7: 2.1611165 | E7: 2.1181196 | F7: 1.1338717
A8: Operaciones bajo la línea | B8: -0.11738827 | C8: 0.4625195 | D8: 0.16508996 | E8: -0.17520449 | F8: 0.14020405
A9: PIB nominal | B9: -1.7696487 | C9: -2.0169403 | D9: -2.2136165 | E9: -2.3891585 | F9: -2.4295061
A10: Valorización (efecto moneda e inflación) | B10: -0.060534431 | C10: 0.53227743 | D10: 0.39438535 | E10: 0.40432702 | F10: 0.373459
A11: (1) Valorización: Efecto valorización contiene cambios en el stock de deuda por monedas e inflación.
A12: (p) Proyección.
A13: Fuente: Dipres.

Sheet G III.9.3
A1: Gráfico III.9.3
A2: Gasto por intereses presupuestarios 2027-2031 (p)
A3: (cifras consolidadas en millones de pesos 2027)
B5: 2027 | C5: 2028 | D5: 2029 | E5: 2030 | F5: 2031
A6: Gasto por intereses | B6: 5093009.8 | C6: 5823083.5 | D6: 6415384.4 | E6: 6859294.1 | F6: 7056469.8
A7: (p) Proyección.
A8: Fuente: Dipres.

Sheet G III.9.4
A1: Gráfico III.9.4
A2: Perfil de vencimiento de la deuda bruta del Gobierno Central (p)
A3: (cifras consolidadas en millones de pesos 2027)
B5: 2028 | C5: 2029 | D5: 2030 | E5: 2031 | F5: 2032 | G5: 2033 | H5: 2034 | I5: 2035 | J5: 2036
A6: Amortizacion deuda interna | B6: 11739691 | C6: 7376349.8 | D6: 12023837 | E6: 2095986.9 | F6: 2636057.9 | G6: 9852760.5 | H6: 2368613.1 | I6: 11240384 | J6: 276532.53
A7: Amortizacion deuda externa | B7: 2166674.7 | C7: 3673906.2 | D7: 1618486.8 | E7: 6305988.6 | F7: 4226597.6 | G7: 1961835.5 | H7: 3334283.7 | I7: 1367069.5 | J7: 3186591.4
A8: (p) Proyección.
A9: Fuente: Dipres.

Sheet G III.11.1
A1: Gráfico III.11.1
A2: Diferencia de ingresos totales por año con respecto al escenario base
A3: (millones de dólares de cada escenario)
B5: 2028 | C5: 2029 | D5: 2030 | E5: 2031
A6: Mayor crecimiento - Base | B6: 2291.593 | C6: 2517.5062 | D6: 2761.0615 | E6: 3604.5825
A7: Menor crecimiento - Base | B7: -1158.5911 | C7: -1796.1458 | D7: -2694.8389 | E7: -3630.0406
A8: Nota: Cálculos con tipo de cambio promedio en pesos de 2027 de cada escenario.
A9: Fuente: Dipres.

Sheet G III.11.2
A1: Gráfico III.11.2
A2: Diferencia de ingresos estructurales por año con respecto al escenario base
A3: (millones de dólares de cada escenario)
B5: 2028 | C5: 2029 | D5: 2030 | E5: 2031
A6: Mayor crecimiento - Base | B6: 1742.6126 | C6: 1911.0182 | D6: 1961.5339 | E6: 2062.3403
A7: Menor crecimiento - Base | B7: -72.983911 | C7: 211.03644 | D7: 526.23943 | E7: 484.17094
A8: Nota: Cálculos con tipo de cambio promedio en pesos de 2027 de cada escenario.
A9: Fuente: Dipres.

Sheet G III.11.3
A1: Gráfico III.11.3
A2: Balance efectivo por año en cada escenario
A3: (% del PIB de cada año en cada escenario)
B5: 2028 | C5: 2029 | D5: 2030 | E5: 2031
A6: Base | B6: -2.0167777 | C6: -2.1611165 | D6: -2.1181196 | E6: -1.1338717
A7: Mayor crecimiento | B7: -1.9059606 | C7: -2.0234656 | D7: -1.9570457 | E7: -0.85417329
A8: Menor crecimiento | B8: -2.1937604 | C8: -2.4912735 | D8: -2.6359999 | E8: -1.7841823
A9: Nota: Cálculos consideran el PIB de cada escenario.
A10: Fuente: Dipres.

Sheet G III.11.4
A1: Gráfico III.11.4
A2: Balance estructural por año en cada escenario
A3: (% del PIB de cada año en cada escenario)
B5: 2028 | C5: 2029 | D5: 2030 | E5: 2031
A6: Base | B6: -2.1709996 | C6: -2.514214 | D6: -2.7644502 | E6: -2.0281879
A7: Mayor crecimiento | B7: -2.1746833 | C7: -2.4916485 | D7: -2.7404052 | E7: -2.0009325
A8: Menor crecimiento | B8: -2.1072967 | C8: -2.4228365 | D8: -2.6452518 | E8: -1.9144451
A9: Nota: Cálculos consideran el PIB de cada escenario.
A10: Fuente: Dipres.

Sheet G III.11.5
A1: Gráfico III.11.5
A2: Diferencia en holguras con respecto al escenario base
A3: (millones de dólares de cada escenario)
B5: 2028 | C5: 2029 | D5: 2030 | E5: 2031
A6: Mayor crecimiento - Base | B6: -69.032333 | C6: 0.35575478 | D6: -47.975899 | E6: 45.228968
A7: Menor crecimiento - Base | B7: 317.72441 | C7: 527.15332 | D7: 793.01624 | E7: 715.93774
A8: Nota: Cálculos con tipo de cambio promedio en pesos de 2027 de cada escenario.
A9: Fuente: Dipres.

Sheet G III.11.6
A1: Gráfico III.11.6
A2: Deuda bruta del Gobierno Central 1990-2031 (p)
A3: (% del PIB de cada año en cada escenario)
B5: 1990 | C5: 1991 | D5: 1992 | E5: 1993 | F5: 1994 | G5: 1995 | H5: 1996 | I5: 1997 | J5: 1998 | K5: 1999 | L5: 2000 | M5: 2001 | N5: 2002 | O5: 2003 | P5: 2004 | Q5: 2005 | R5: 2006 | S5: 2007 | T5: 2008 | U5: 2009 | V5: 2010 | W5: 2011 | X5: 2012 | Y5: 2013 | Z5: 2014 | AA5: 2015 | AB5: 2016 | AC5: 2017 | AD5: 2018 | AE5: 2019 | AF5: 2020 | AG5: 2021 | AH5: 2022 | AI5: 2023 | AJ5: 2024 | AK5: 2025 | AL5: 2026p | AM5: 2027p | AN5: 2028p | AO5: 2029p | AP5: 2030p | AQ5: 2031p
A6: Escenario base | B6: 42.913302 | C6: 36.988762 | D6: 30.31863 | E6: 27.918408 | F6: 22.595505 | G6: 17.283926 | H6: 14.584476 | I6: 12.779823 | J6: 12.115296 | K6: 13.277007 | L6: 13.14564 | M6: 14.348084 | N6: 15.04533 | O6: 12.573018 | P6: 10.314065 | Q6: 7.0396205 | R6: 5.0223976 | S6: 3.9012603 | T6: 4.9159891 | U6: 5.8449264 | V6: 8.6073278 | W6: 11.12689 | X6: 11.939073 | Y6: 12.784064 | Z6: 15.019748 | AA6: 17.37466 | AB6: 21.100505 | AC6: 23.651639 | AD6: 25.798028 | AE6: 28.297593 | AF6: 32.352589 | AG6: 36.447857 | AH6: 37.907331 | AI6: 39.415191 | AJ6: 41.650002 | AK6: 41.536318 | AL6: 42.695068 | AM6: 42.501724 | AN6: 43.496358 | AO6: 44.003334 | AP6: 43.961417 | AQ6: 43.179446
A7: Escenario menor crecimiento | AL7: 42.825796 | AM7: 42.981801 | AN7: 44.243229 | AO7: 45.397303 | AP7: 46.249581 | AQ7: 46.305477
A8: Escenario mayor crecimiento | AL8: 42.576596 | AM8: 42.23004 | AN8: 42.810253 | AO8: 43.177513 | AP8: 42.938137 | AQ8: 41.759754
A9: Nivel prudente | B9: 45 | C9: 45 | D9: 45 | E9: 45 | F9: 45 | G9: 45 | H9: 45 | I9: 45 | J9: 45 | K9: 45 | L9: 45 | M9: 45 | N9: 45 | O9: 45 | P9: 45 | Q9: 45 | R9: 45 | S9: 45 | T9: 45 | U9: 45 | V9: 45 | W9: 45 | X9: 45 | Y9: 45 | Z9: 45 | AA9: 45 | AB9: 45 | AC9: 45 | AD9: 45 | AE9: 45 | AF9: 45 | AG9: 45 | AH9: 45 | AI9: 45 | AJ9: 45 | AK9: 45 | AL9: 45 | AM9: 45 | AN9: 45 | AO9: 45 | AP9: 45 | AQ9: 45
A10: (p) Proyección.
A11: Fuente: Dipres.

Sheet G IV.1.1
A1: Gráfico IV.1.1
A2: Número de programas ingresados a evaluación ex ante 2027 según tipo de oferta y calificación
B4: Oferta social | E4: Oferta no social
A5: Calificación | B5: RF | C5: OT | D5: No es programa | E5: RF | F5: OT | G5: No es programa
A6: Nuevo | B6: 3 | C6: 0 | D6: 0 | E6: 5 | F6: 2 | G6: 0
A7: Reformulación | B7: 30 | C7: 3 | D7: 0 | E7: 24 | F7: 12 | G7: 4
A8: Regularización | B8: 1 | C8: 0 | D8: 0 | E8: 5 | F8: 1 | G8: 0
A9: Fusiones | B9: 9 | C9: 0 | D9: 0 | E9: 3 | F9: 0 | G9: 1
A10: Total | B10: 43 | C10: 3 | D10: 0 | E10: 37 | F10: 15 | G10: 5
A11: Fuente: Dipres.

Sheet G IV.1.2
A1: Gráfico IV.1.2
A2: Número de programas ingresados a evaluación ex ante según tipo de oferta (social y no social) período 2019-2026
B4: 2019 (FP 2020) | C4: 2020 (FP 2021) | D4: 2021 (FP 2022) | E4: 2022 (FP 2023) | F4: 2023 (FP 2024) | G4: 2024 (FP 2025) | H4: 2025 (FP 2026) | I4: 2026 (FP 2027)
A6: Social | B6: 97 | C6: 110 | D6: 79 | E6: 105 | F6: 95 | G6: 84 | H6: 64 | I6: 46
A7: No social | B7: 60 | C7: 47 | D7: 35 | E7: 78 | F7: 68 | G7: 44 | H7: 46 | I7: 57
A8: Total | B8: 157 | C8: 157 | D8: 114 | E8: 183 | F8: 163 | G8: 128 | H8: 110 | I8: 103
A9: FP: Formulación presupuestaria.
A10: Fuente: Dipres.

Sheet G IV.1.3
A1: Gráfico IV.1.3
A2: Calificación por tipo de oferta (social y no social) 2027
A4: Calificación | B4: Oferta social | C4: Oferta no social
A5: Recomendado Favorablemente | B5: 43 | C5: 37
A6: Objetado Técnicamente | B6: 3 | C6: 15
A7: No es programa | B7: 0 | C7: 5
A8: Total | B8: 46 | C8: 57
A9: Fuente: Dipres.

Sheet G IV.1.4
A1: Gráfico IV.1.4
A2: Perfiles de iniciativas presentadas al proceso evaluación ex ante GORE (año 2026)
A4: GORE | B4: No Social | C4: Social | D4: Total
A5: Arica y Parinacota | B5: 2 | C5: 8 | D5: 10
A6: Tarapacá | B6: 1 | D6: 1
A7: Antofagasta | B7: 6 | C7: 6 | D7: 12
A8: Coquimbo | B8: 1 | C8: 1 | D8: 2
A9: Valparaíso | B9: 4 | D9: 4
A10: RM | B10: 5 | D10: 5
A11: O'Higgins | B11: 4 | D11: 4
A12: Ñuble | C12: 3 | D12: 3
A13: Biobío | C13: 1 | D13: 1
A14: La Araucanía | B14: 5 | C14: 1 | D14: 6
A15: Los Ríos | B15: 6 | C15: 3 | D15: 9
A16: Los Lagos | B16: 2 | D16: 2
A17: Aysén | B17: 1 | D17: 1
A18: Magallanes | C18: 1 | D18: 1
A19: Fuente: Dipres.

Sheet G IV.1.5
A1: Gráfico IV.1.5
A2: Número de programas y ámbito en proceso evaluación ex ante GORE (año 2026)
A4: GORE | B4: No social | C4: Social | D4: Total
A5: Tarapacá | B5: 1 | D5: 1
A6: Antofagasta | B6: 5 | C6: 4 | D6: 9
A7: Coquimbo | B7: 1 | C7: 1 | D7: 2
A8: Valparaíso | B8: 2 | D8: 2
A9: RM | B9: 4 | D9: 4
A10: O'Higgins | B10: 4 | D10: 4
A11: Ñuble | C11: 3 | D11: 3
A12: La Araucanía | B12: 3 | C12: 1 | D12: 4
A13: Los Ríos | B13: 4 | C13: 3 | D13: 7
A14: Los Lagos | B14: 2 | D14: 2
A15: Aysén | B15: 1 | D15: 1
A16: Magallanes | C16: 1 | D16: 1
A17: Fuente: Dipres.

Sheet G IV.1.6
A1: Gráfico IV.1.6
A2: Variación porcentual promedio programas condicionados procesos presupuestarios 2026 y 2027, solo programas con identificación presupuestaria directa
A4: Nivel | B4: Variación porcentual promedio
A5: Programas condicionados 2026 | B5: -0.15
A6: Programas condicionados 2027 | B6: -0.18
A7: Fuente: Dipres.

Sheet G IV.1.7
A1: Gráfico IV.1.7
A2: Variación porcentual de los recursos asignados a los programas que ingresan al proceso de evaluación ex ante 2027, solo programas con identificación presupuestaria directa
B4: Variación porcentual promedio
A5: Objetado técnicamente - 2027 | B5: -0.35470035
A6: Recomendado favorablemente - 2027 | B6: -0.038818162
A7: Fuente: Dipres.

Sheet G IV.1.8
A1: Gráfico IV.1.8
A2: Variación promedio de proyecto de ley de Presupuestos 2027, según tipología (N=48)
A4: Nivel | B4: Variación promedio
A5: Satisfactorio (N=20) | B5: -0.051
A6: Bajo (N=12) | B6: 0.088
A7: Insuficiente (N=16) | B7: -0.189
A8: Fuente: Dipres.

Sheet G VI.1.1
A1: Gráfico VI.1.1
A2: Gastos Reservados de la Administración Civil del Gobierno Central
A3: Leyes de Presupuestos
A4: (millones de pesos 2027)
B6: 2020 | C6: 2021 | D6: 2022 | E6: 2023 | F6: 2024 | G6: 2025 | H6: 2026 | I6: 2027p
A7: Millones de $2027 | B7: 5979 | C7: 5782 | D7: 4569 | E7: 4377 | F7: 3972 | G7: 3957 | H7: 4082 | I7: 3611
A8: p: Proyecto de Ley de Presupuestos.
A9: Fuente: Dipres.

Sheet G VI.1.2
A1: Gráfico VI.1.2
A2: Gastos Reservados de las Fuerzas Armadas
A3: Leyes de Presupuestos
A4: (millones de pesos 2027)
B6: 2020 | C6: 2021 | D6: 2022 | E6: 2023 | F6: 2024 | G6: 2025 | H6: 2026 | I6: 2027p
A7: Millones de $2027 | B7: 6246 | C7: 6243 | D7: 4813 | E7: 4710 | F7: 5060 | G7: 5060 | H7: 5327 | I7: 5327
A8: p: Proyecto de Ley de Presupuestos.
A9: Fuente: Dipres.

Sheet G VI.1.3
A1: Gráfico VI.1.3
A2: Gasto autorizado máximo en honorarios
A3: (millones de pesos 2027)
B5: 2022 | C5: 2023 | D5: 2024 | E5: 2025 | F5: 2026 | G5: 2027p
A6: Honorarios (millones de $2027) | B6: 324939 | C6: 319607 | D6: 387423 | E6: 257048 | F6: 258221 | G6: 257880
A7: p: Proyecto de Ley de Presupuestos.
A8: Nota: Incluye gasto en asesores de autoridad.
A9: Fuente: Dipres.

Sheet G VI.1.4
A1: Gráfico VI.1.4
A2: Cupos de honorarios y asesores de autoridad
A3: (número de cupos)
B5: 2025 | C5: 2026 | D5: 2027p
A6: Honorarios | B6: 22031 | C6: 23271 | D6: 22608
A7: Asesores de autoridad (art. 38 bis) | D7: 393
A8: p: Proyecto de Ley de Presupuestos.
A9: Nota: Corresponde a la Ley Inicial más Reajuste más leyes especiales, y modificaciones. Asesores de Autoridad corresponde a los asesores de autoridad a honorarios regulados por el artículo 38 bis de la Constitución y la Ley N°21.603.
A13: La cifra de honorarios excluye el número de asesores de autoridad.
A14: Fuente: Dipres.

Sheet G R.1.1
A1: Gráfico R.1.1
A2: Número de créditos CAE por etapa (2006-2025)
A3: (cifras a diciembre de cada año)
B5: A: Estudio y gracia | C5: B: Pago regular | D5: C: Cobranza TGR | E5: D: Convenio TGR
A6: 38718 | B6: 21112 | C6: 0 | D6: 0 | E6: 0
A7: 39083 | B7: 56189 | C7: 0 | D7: 0 | E7: 0
A8: 39448 | B8: 99296 | C8: 1215 | D8: 0 | E8: 0
A9: 39814 | B9: 166852 | C9: 5247 | D9: 103 | E9: 0
A10: 40179 | B10: 252573 | C10: 12980 | D10: 806 | E10: 0
A11: 40544 | B11: 332411 | C11: 31797 | D11: 1388 | E11: 0
A12: 40909 | B12: 389144 | C12: 61691 | D12: 3394 | E12: 0
A13: 41275 | B13: 435782 | C13: 102174 | D13: 6673 | E13: 195
A14: 41640 | B14: 459921 | C14: 160755 | D14: 10264 | E14: 462
A15: 42005 | B15: 481034 | C15: 210855 | D15: 30320 | E15: 897
A16: 42370 | B16: 486075 | C16: 261468 | D16: 59253 | E16: 2932
A17: 42736 | B17: 462696 | C17: 325298 | D17: 78100 | E17: 6288
... A25: 45658 | B25: 294087 | C25: 410132 | D25: 576356 | E25: 12532
A26: Nota: Existen deudores con más de un crédito, por lo que la etapa es única para cada crédito. Se clasifica una deuda con convenio si emitió un pago de convenio durante el año respectivo.
A28: Fuente: Dipres en base a registros administrativos de créditos y pagos (Comisión Ingresa) y de cobranza (TGR).

Sheet G R.1.2
A1: Gráfico R.1.2
A2: Gastos y desembolsos fiscales anuales 2006-2025
A3: (millones de pesos de 2026)
B5: Compra de cartera (A1); bajo la línea | C5: Recarga (A2); sobre la línea | D5: Subsidios (B2); sobre la línea | E5: Garantía a bancos (B3); bajo la línea | F5: Total sobre la línea
A7: 38718 | B7: 10461.007 | C7: 4517.5135 | D7: 0 | E7: 0 | F7: 4517.5135
A8: 39083 | B8: 17917.525 | C8: 5884.3922 | D8: 0 | E8: 0 | F8: 5884.3922
A9: 39448 | B9: 46787.936 | C9: 11029.955 | D9: 0 | E9: 0 | F9: 11029.955
A10: 39814 | B10: 35205.273 | C10: 9497.0354 | D10: 0 | E10: 0 | F10: 9497.0354
A11: 40179 | B11: 373079.32 | C11: 151953.65 | D11: 0 | E11: 245.78275 | F11: 151953.65
A12: 40544 | B12: 343249.64 | C12: 89808.656 | D12: 0 | E12: 1670.5118 | F12: 89808.656
A13: 40909 | B13: 383382.01 | C13: 102866.32 | D13: 0 | E13: 4051.0297 | F13: 102866.32
A14: 41275 | B14: 418457.87 | C14: 109552.61 | D14: 0 | E14: 8866.5972 | F14: 109552.61
A15: 41640 | B15: 477282.99 | C15: 107605.71 | D15: 0 | E15: 13518.76 | F15: 107605.71
A16: 42005 | B16: 537370.07 | C16: 129886.58 | D16: 0 | E16: 52392.407 | F16: 129886.58
A17: 42370 | B17: 578418.85 | C17: 135253.55 | D17: 19706.291 | E17: 113759.27 | F17: 154959.84
A18: 42736 | B18: 499921.18 | C18: 111840.1 | D18: 26018.775 | E18: 99451.146 | F18: 137858.87
... A26: 45658 | B26: 411630.85 | C26: 120017.21 | D26: 20682.664 | E26: 345921.7 | F26: 140699.88
A27: Nota: El flujo de Recarga (A2) era considerado bajo la línea hasta 2025, pero desde 2026 se reclasificó sobre la línea, dado que no constituye parte del valor par en la compra de cartera.
A29: Fuente: Dipres en base a ejecución presupuestaria.

Sheet G R.1.3
A1: Gráfico R.1.3
A2: Ingresos fiscales anuales 2006-2025
A3: (millones de pesos de 2026)
B5: Pago cuotas (B1) | C5: Garantías IES (B4) | D5: Cobranza TGR (C1) | E5: Convenios TGR (D1)
A6: 38718 | B6: 28.226505 | C6: 0 | D6: 0 | E6: 0
A7: 39083 | B7: 291.86867 | C7: 0 | D7: 0 | E7: 0
A8: 39448 | B8: 533.5308 | C8: 0 | D8: 0 | E8: 0
A9: 39814 | B9: 1090.0148 | C9: 0 | D9: 0 | E9: 0
A10: 40179 | B10: 6714.8475 | C10: 7.8676704 | D10: 0.6371705 | E10: 0
A11: 40544 | B11: 13800.538 | C11: 10.250511 | D11: 0 | E11: 0
A12: 40909 | B12: 21322.85 | C12: 9.7342129 | D12: 2.0328574 | E12: 0
A13: 41275 | B13: 26634.475 | C13: 6.0559765 | D13: 196.22193 | E13: 66.150887
A14: 41640 | B14: 41778.192 | C14: 195.57381 | D14: 343.44686 | E14: 180.97423
A15: 42005 | B15: 73212.246 | C15: 5682.7372 | D15: 869.90396 | E15: 336.96969
A16: 42370 | B16: 90419.415 | C16: 17066.335 | D16: 2240.7319 | E16: 979.14592
A17: 42736 | B17: 106744.01 | C17: 12837.135 | D17: 4749.47 | E17: 2235.8127
... A25: 45658 | B25: 104379.35 | C25: 72671.266 | D25: 23103.124 | E25: 4475.5837
A26: Nota: Todos los flujos de ingresos se consideran sobre la línea según la clasificación actual.
A27: Fuente: Dipres en base a registros de remesas y cobranza (TGR), y registros administrativos de recaudación (Comisión Ingresa).

Sheet G R.1.4
A1: Gráfico R.1.4
A2: Recaudación mensual 2017-2026
A3: (millones de pesos de 2026)
A5: Mes | B5: 2017 | C5: 2018 | D5: 2019 | E5: 2020 | F5: 2021 | G5: 2022 | H5: 2023 | I5: 2024 | J5: 2025 | K5: Mín | L5: Máx | M5: Promedio (2017-2025) | N5: Rango (2017-2025) | O5: 2026
A6: ene | B6: 11789.101 | C6: 7657.6365 | D6: 20723.466 | E6: 431.00063 | F6: 11709.065 | G6: 538.00491 | H6: 12867.577 | I6: 15955.831 | J6: 12481.5 | K6: 7657.6365 | L6: 20723.466 | M6: 13579.185 | N6: 13065.829 | O6: 17897.324
A7: feb | B7: 19755.182 | C7: 12751.515 | D7: 16789.33 | E7: 38663.266 | F7: 19765.174 | G7: 503.00256 | H7: 20118.395 | I7: 15532.417 | J7: 17843.93 | K7: 12751.515 | L7: 20118.395 | M7: 17131.795 | N7: 7366.8802 | O7: 14837.74
A8: mar | B8: 16969.083 | C8: 16635.791 | D8: 11050.807 | E8: 10185 | F8: 19050.347 | G8: 58224.023 | H8: 15236.705 | I8: 19940.304 | J8: 21364.53 | K8: 11050.807 | L8: 21364.53 | M8: 16866.203 | N8: 10313.723 | O8: 22523.421
A9: abr | B9: 11176.914 | C9: 5610.3935 | D9: 10062.363 | E9: 13106.988 | F9: 22054.367 | G9: 19103.851 | H9: 16857.649 | I9: 17945.566 | J9: 18999.371 | K9: 5610.3935 | L9: 18999.371 | M9: 13442.043 | N9: 13388.977 | O9: 42961.024
A10: may | B10: 10832.733 | C10: 15507.921 | D10: 24339.877 | E10: 9261.5791 | F10: 29436.766 | G10: 18772.58 | H10: 20503.426 | I10: 31815.353 | J10: 25177.761 | K10: 10832.733 | L10: 31815.353 | M10: 21362.845 | N10: 20982.619 | O10: 37204.139
A11: jun | B11: 6508.7496 | C11: 12452.102 | D11: 12785.916 | E11: 15761.143 | F11: 18060.324 | G11: 21901.887 | H11: 15710.2 | I11: 11095.731 | J11: 12750.709 | K11: 6508.7496 | L11: 15710.2 | M11: 11883.901 | N11: 9201.45 | O11: 44943.573
A12: jul | B12: 10385.587 | C12: 9610.2727 | D12: 11625.865 | E12: 12428.966 | F12: 14746.758 | G12: 15786.632 | H12: 9494.6758 | I12: 14837.248 | J12: 12002.152 | K12: 9494.6758 | L12: 14837.248 | M12: 11325.967 | N12: 5342.5721
A13: ago | B13: 8655.3758 | C13: 8265.4738 | D13: 16165.054 | E13: 23441.498 | F13: 707.43682 | G13: 14143.828 | H13: 18006.995 | I13: 19122.073 | J13: 14083.212 | K13: 8265.4738 | L13: 19122.073 | M13: 14049.697 | N13: 10856.599
A14: sept | B14: 4622.9428 | C14: 6007.699 | D14: 15325.412 | E14: 18245.081 | F14: 32957.795 | G14: 15731.461 | H14: 12675.045 | I14: 8986.7211 | J14: 17688.23 | K14: 4622.9428 | L14: 17688.23 | M14: 10884.342 | N14: 13065.287
A15: oct | B15: 11735.9 | C15: 6150.1553 | D15: 12653.396 | E15: 9182.4787 | F15: 13632.241 | G15: 11614.745 | H15: 11123.746 | I15: 19516.409 | J15: 19034.631 | K15: 6150.1553 | L15: 19516.409 | M15: 13369.04 | N15: 13366.254
A16: nov | B16: 8271.1041 | C16: 3605.2658 | D16: 9118.3248 | E16: 25076.29 | F16: 19375.708 | G16: 20710.495 | H16: 8006.5239 | I16: 19115.416 | J16: 16359.648 | K16: 3605.2658 | L16: 19115.416 | M16: 10746.047 | N16: 15510.15
A17: dic | B17: 9008.8926 | C17: 4902.2899 | D17: 7713.1843 | E17: 10160.58 | F17: 18892.526 | G17: 28504.763 | H17: 23495.89 | I17: 17533.91 | J17: 18740.571 | K17: 4902.2899 | L17: 23495.89 | M17: 13565.79 | N17: 18593.6
A18: Nota: El rango y el promedio excluyen los años 2020-2022. Deflactado a pesos de junio de 2026. Los flujos registrados en la ejecución presupuestaria pueden variar respecto a los registros de TGR debido a diferencias en los momentos de registro o ajustes de moneda.
A20: Fuente: Dipres en base a ejecución presupuestaria.

Sheet G R.1.5
A1: Gráfico R.1.5
A2: Recaudación en el primer semestre por tipo de flujo, 2022-2026
A3: (millones de pesos de 2026)
B5: Remesas bancos (B1+B4) | C5: Otra cobranza TGR (C1) | D5: Retenciones TGR (C1) | E5: Convenios TGR (D1)
A7: 1S 2022 | B7: 102386.41 | C7: 298.02899 | D7: 9626.2047 | E7: 990.34286
A8: 1S 2023 | B8: 84284.367 | C8: 508.75638 | D8: 12630.535 | E8: 1029.4407
A9: 1S 2024 | B9: 92730.3 | C9: 675.58876 | D9: 15383.971 | E9: 1241.9426
A10: 1S 2025 | B10: 83806.489 | C10: 1138.0811 | D10: 19855.585 | E10: 2173.6847
A11: 1S 2026 | B11: 82478.614 | C11: 37361.583 | D11: 22057.558 | E11: 39380.937
A12: Nota: Remesas bancos (B1+B4) corresponde a los pagos desde los bancos al Fisco que provienen tanto de recuperación de cartera comprada (B1) como de recuperación de garantías IES (B4); retenciones (C1) corresponde a las retenciones de devoluciones de impuestos a la renta; otra Cobranza (C1) corresponde a embargos u otros pagos voluntarios distintos a los convenios; convenios (D1) corresponde al pago vía convenios.
A17: Fuente: Dipres en base a registros de remesas y cobranza (TGR).

Sheet G R.2.1
A1: Gráfico R.2.1
A2: Variación anual del gasto en capital
A3: (variación real anual e incidencia)
B5: 46023 | C5: 46054 | D5: 46082 | E5: 46113 | F5: 46143 | G5: 46174 | H5: 46204 | I5: 46235
A6: Gasto de capital | B6: -39.505982 | C6: -5.9513382 | D6: -5.6658151 | E6: -14.149879 | F6: -15.670328 | G6: -12.718469 | H6: -15.986291 | I6: -2.9225492
A7: Inversión | B7: -5.4501226 | C7: -10.254946 | D7: -13.129874 | E7: -12.69308 | F7: -14.160377 | G7: -6.5076783 | H7: -1.5182676 | I7: -5.1376454
A8: Transferencias de capital | B8: -34.05586 | C8: 4.3036076 | D8: 7.4640587 | E8: -1.4567991 | F8: -1.5099507 | G8: -6.2107909 | H8: -14.468023 | I8: 2.2150963
A9: Fuente: Dipres.

Sheet G R.2.2
A1: Gráfico R.2.2
A2: Variación anual del gasto del Gobierno Central total
A3: (variación real e incidencias)
B5: 46082 | C5: 46113 | D5: 46143 | E5: 46174 | F5: 46204 | G5: 46235
A6: Total | B6: 5.1345244 | C6: 3.2001327 | D6: 0.36117319 | E6: 0.042523361 | F6: -0.73322776 | G6: 3.2805952
A7: Corriente | B7: 5.9315255 | C7: 5.3046172 | D7: 2.7533247 | E7: 1.7552515 | F7: 1.2874956 | G7: 3.6465476
A8: Capital | B8: -0.79700107 | C8: -2.1044845 | D8: -2.3921515 | E8: -1.7127281 | F8: -2.0207234 | G8: -0.36595233
A9: Fuente: Dipres.

Sheet G R.2.3
A1: Gráfico R.2.3
A2: Cambios en la variación anual del gasto vs marzo-2026 del Gobierno Central total
A3: (puntos porcentuales)
B5: 46082 | C5: 46113 | D5: 46143 | E5: 46174 | F5: 46204 | G5: 46235
A6: Total | B6: 0 | C6: -1.9343918 | D6: -4.7733513 | E6: -5.0920011 | F6: -5.8677522 | G6: -1.8539292
A7: Corriente | B7: 0 | C7: -0.62690833 | D7: -3.1782008 | E7: -4.1762741 | F7: -4.6440299 | G7: -2.284978
A8: Capital | B8: 0 | C8: -1.3074834 | D8: -1.5951505 | E8: -0.91572702 | F8: -1.2237223 | G8: 0.43104874
A9: Fuente: Dipres.

Sheet G R.2.4
A1: Gráfico R.2.4
A2: Gasto de capital aprobado en Ley Presupuestos
A3: (% del PIB)
B5: 2013 | C5: 2014 | D5: 2015 | E5: 2016 | F5: 2017 | G5: 2018 | H5: 2019 | I5: 2020 | J5: 2021 | K5: 2022 | L5: 2023 | M5: 2024 | N5: 2025 | O5: 2026
A6: Gasto de capital | B6: 4.0314422 | C6: 3.5930215 | D6: 4.3830597 | E6: 4.1732891 | F6: 3.8368184 | G6: 3.7420341 | H6: 3.7598457 | I6: 3.9933668 | J6: 3.9441017 | K6: 4.0989525 | L6: 4.2131482 | M6: 3.9008536 | N6: 3.8490037 | O6: 3.4506836
A7: Inversión | B7: 2.2597959 | C7: 2.1076965 | D7: 2.5582009 | E7: 2.3530012 | F7: 2.0993893 | G7: 2.0834438 | H7: 2.0510849 | I7: 2.2115485 | J7: 2.3310448 | K7: 1.9585997 | L7: 1.8893651 | M7: 1.7779967 | N7: 1.6728263 | O7: 1.3873203
A8: Transferencias de capital | B8: 1.7716463 | C8: 1.485325 | D8: 1.8248588 | E8: 1.8202879 | F8: 1.7374291 | G8: 1.6585903 | H8: 1.7087609 | I8: 1.7818183 | J8: 1.6130569 | K8: 2.1403529 | L8: 2.3237831 | M8: 2.1228569 | N8: 2.1761774 | O8: 2.0633633
A9: Nota: Para 2026 se utiliza el PIB e IPC del IFP 3T26.
A10: Fuente: Dipres.

Sheet G R.2.5
A1: Gráfico R.2.5
A2: Gasto de capital aprobado en Ley de Presupuestos
A3: (variación real anual entre leyes de Presupuestos e incidencias)
B5: 2013 | C5: 2014 | D5: 2015 | E5: 2016 | F5: 2017 | G5: 2018 | H5: 2019 | I5: 2020 | J5: 2021 | K5: 2022 | L5: 2023 | M5: 2024 | N5: 2025 | O5: 2026
A6: Gasto de capital | B6: -0.64483242 | C6: -8.0080897 | D6: 25.336363 | E6: -2.3970312 | F6: -4.4027372 | G6: 0.58586845 | H6: 1.4327845 | I6: 6.1062618 | J6: 12.44896 | K6: 2.1836722 | L6: 2.4905435 | M6: -1.8825126 | N6: 3.6102063 | O6: -6.2495422
A7: Inversión | B7: 0.40974012 | C7: -2.0910541 | D7: 14.492534 | E7: -3.3347293 | F7: -4.0745271 | G7: 1.2860335 | H7: -0.34278715 | I7: 4.2098631 | J7: 11.079088 | K7: -10.275693 | L7: -1.8215638 | M7: -0.12285698 | N7: -0.54935918 | O7: -5.7696445
A8: Transferencias de capital | B8: -1.0545725 | C8: -5.9170356 | D8: 10.84383 | E8: 0.9376981 | F8: -0.32821013 | G8: -0.70016508 | H8: 1.7755717 | I8: 1.8963986 | J8: 1.3698727 | K8: 12.459365 | L8: 4.3121073 | M8: -1.7596556 | N8: 4.1595655 | O8: -0.47989776
A9: Nota: Para 2026 se utiliza el PIB e IPC del IFP 3T26.
A10: Fuente: Dipres.

Sheet G R.2.6
A1: Gráfico R.2.6
A2: Avance a agosto del gasto de capital e inversión
A3: (% sobre la ley aprobada)
A5: Avance a agosto | B5: 2010 | C5: 2014 | D5: 2018 | E5: 2022 | F5: 2026
A6: Gasto de capital | B6: 56.563553 | C6: 54.474199 | D6: 54.023819 | E6: 42.576859 | F6: 49.480694
A7: Inversión | B7: 46.344947 | C7: 46.308331 | D7: 44.62983 | E7: 33.777045 | F7: 44.047746
A8: Nota: Para 2022 se considera ley aprobada + FET.
A9: Fuente: Dipres.

Sheet G R.2.7
A1: Gráfico R.2.7
A2: Gasto de capital Ministerio de Obras Públicas
A3: (% del PIB)
B5: ene | C5: feb | D5: mar | E5: abr | F5: may | G5: jun | H5: jul | I5: ago | J5: sept | K5: oct | L5: nov | M5: dic
A6: max | B6: 0.0081654232 | C6: 0.074514631 | D6: 0.10405355 | E6: 0.1230181 | F6: 0.093513917 | G6: 0.16442411 | H6: 0.080452185 | I6: 0.086627984 | J6: 0.10025317 | K6: 0.10194731 | L6: 0.13826917 | M6: 0.31885824
A7: min | B7: 0.0067752449 | C7: 0.035484415 | D7: 0.077469883 | E7: 0.097121784 | F7: 0.084612509 | G7: 0.084341839 | H7: 0.066671703 | I7: 0.077296086 | J7: 0.066993371 | K7: 0.077183911 | L7: 0.10033979 | M7: 0.13342002
A8: Rango 2022-2024 | B8: 0.0013901783 | C8: 0.039030215 | D8: 0.026583669 | E8: 0.025896318 | F8: 0.0089014081 | G8: 0.080082274 | H8: 0.013780482 | I8: 0.0093318982 | J8: 0.033259798 | K8: 0.024763399 | L8: 0.037929374 | M8: 0.18543822
A9: Promedio (22-24) | B9: 0.0072828002 | C9: 0.060784435 | D9: 0.093370085 | E9: 0.11118034 | F9: 0.089115864 | G9: 0.11673874 | H9: 0.074317041 | I9: 0.08140414 | J9: 0.08596659 | K9: 0.089499418 | L9: 0.11934159 | M9: 0.24420749
A10: 2024 | B10: 0.0069077325 | C10: 0.074514631 | D10: 0.098586818 | E10: 0.1230181 | F10: 0.093513917 | G10: 0.16442411 | H10: 0.066671703 | I10: 0.077296086 | J10: 0.090653229 | K10: 0.089367033 | L10: 0.1194158 | M10: 0.13342002
A11: 2025 | B11: 0.026970504 | C11: 0.12263284 | D11: 0.10817125 | E11: 0.11189944 | F11: 0.10000078 | G11: 0.097427257 | H11: 0.076093922 | I11: 0.072046363 | J11: 0.094107513 | K11: 0.08442503 | L11: 0.09280568 | M11: 0.20965765
A12: 2026 | B12: 0.0074558309 | C12: 0.081720284 | D12: 0.092280808 | E12: 0.071363313 | F12: 0.063202495 | G12: 0.08263766 | H12: 0.063956833 | I12: 0.056640581
A13: Fuente: Dipres.

Sheet G R.3.1
A1: Gráfico R.3.1
A2: Descomposición de las holguras fiscales en un ejercicio teórico
A3: (% del PIB)
B5: Mayor recaudación por crec. - reducción IDPC | C5: Mayor recaudación por crec. - menor tiempo permisos | D5: Castigo mecánico | E5: Presiones de gasto | F5: Total
A6: Año 1 | B6: 0 | C6: 0 | D6: 0 | E6: 0 | F6: 0
A7: Año 2 | B7: 0.020992506 | C7: 0.051673861 | D7: -0.15728762 | E7: -0.024222122 | F7: -0.10884338
A8: Año 3 | B8: 0.062705666 | C8: 0.10290161 | D8: -0.31457525 | E8: -0.055202424 | F8: -0.2041704
A9: Año 4 | B9: 0.11785926 | C9: 0.15359034 | D9: -0.41943366 | E9: -0.090483201 | F9: -0.23846726
A10: Año 5 | B10: 0.17247092 | C10: 0.20378102 | D10: -0.44371577 | E10: -0.12541731 | F10: -0.19288114
A11: Año 6 | B11: 0.2265486 | C11: 0.25348095 | D11: -0.44371577 | E11: -0.16000985 | F11: -0.12369608
A12: Año 7 | B12: 0.28010009 | C12: 0.30269728 | D12: -0.44371577 | E12: -0.19426579 | F12: -0.055184193
A13: Año 8 | B13: 0.33313303 | C13: 0.35143705 | D13: -0.44371577 | E13: -0.22819003 | F13: 0.012664281
A14: Año 9 | B14: 0.38565493 | C14: 0.39970713 | D14: -0.44371577 | E14: -0.26178735 | F14: 0.079858935
A15: Año 10 | B15: 0.43767313 | C15: 0.4475143 | D15: -0.44371577 | E15: -0.29506247 | F15: 0.14640918
A16: Nota: “Mayor recaudación por crecimiento - reducción IDPC” corresponde a la mayor recaudación generada por el aumento de la actividad económica asociado a la reducción del impuesto de primera categoría; “Mayor recaudación por crecimiento - menor tiempo de permisos” corresponde a la mayor recaudación derivada del aumento de la actividad económica asociado a la reducción de los tiempos de permisos; “Castigo mecánico” corresponde a la menor recaudación fiscal asociada directamente a la reducción del impuesto de primera categoría; y “Presiones de gasto” corresponde al aumento del gasto fiscal asociado al mayor nivel de actividad económica.
A24: Fuente: Claro et al. (2026).

Sheet G R.4.1
A1: Gráfico R.4.1
A2: Descomposición anual de la variación de la deuda bruta(1)
A3: (% del PIB)
B5: 40878 | C5: 41244 | D5: 41609 | E5: 41974 | F5: 42339 | G5: 42705 | H5: 43070 | I5: 43435 | J5: 43800 | K5: 44166 | L5: 44531 | M5: 44896 | N5: 45261 | O5: 45627 | P5: 45992
A6: Variación de la deuda | B6: 2.5195618 | C6: 0.8121835 | D6: 0.8449909 | E6: 2.2356844 | F6: 2.3549114 | G6: 3.7258451 | H6: 2.551134 | I6: 2.1463888 | J6: 2.5290975 | K6: 4.0451326 | L6: 4.0545809 | M6: 1.4965225 | N6: 1.4584134 | O6: 2.3955459 | P6: -0.2410028
A7: Balance | B7: -1.2833786 | C7: -0.55985855 | D7: 0.5999159 | E7: 1.629554 | F7: 2.1501172 | G7: 2.7238332 | H7: 2.7590448 | I7: 1.6646025 | J7: 2.8745367 | K7: 7.2739434 | L7: 7.7216372 | M7: -1.1251108 | N7: 2.3817045 | O7: 2.8584443 | P7: 2.8018042
A8: Valorización (estimación) | B8: 0.42304146 | C8: 0.02249373 | D8: 0.3179121 | E8: 0.70781992 | F8: 0.72178268 | G8: 0.014089942 | H8: 0.048854053 | I8: 0.78109106 | J8: 0.62957913 | K8: 0.11555455 | L8: 2.1454571 | M8: 1.1807951 | N8: 1.1267851 | O8: 1.8256071 | P8: -0.23826965
A9: PIB nominal | B9: -0.76018009 | C9: -0.72460257 | D9: -0.63784971 | E9: -0.91955441 | F9: -1.0104779 | G9: -1.0441169 | H9: -1.2414752 | I9: -1.2635138 | J9: -0.80650535 | K9: -0.81029528 | L9: -5.1688532 | M9: -3.2413021 | N9: -2.5733886 | O9: -3.6233585 | P9: -3.600033
A10: Operaciones bajo la línea (residuo) | B10: 4.140079 | C10: 2.0741509 | D10: 0.56501261 | E10: 0.8178648 | F10: 0.49348943 | G10: 2.0320389 | H10: 0.98471035 | I10: 0.96420911 | J10: -0.16851299 | K10: -2.5340701 | L10: -0.64366017 | M10: 4.6821403 | N10: 0.52331239 | O10: 1.334853 | P10: 0.79549564
A11: (1): Estimación.
A12: Fuente: Dipres.

Sheet G R.4.2
A1: Gráfico R.4.2
A2: Descomposición de la variación anual acumulada de la deuda bruta(1)
A3: (% del PIB)
B5: 40878 | C5: 41244 | D5: 41609 | E5: 41974 | F5: 42339 | G5: 42705 | H5: 43070 | I5: 43435 | J5: 43800 | K5: 44166 | L5: 44531 | M5: 44896 | N5: 45261 | O5: 45627 | P5: 45992
A6: Variación de la deuda | B6: 2.5195618 | C6: 3.3317453 | D6: 4.1767362 | E6: 6.4124205 | F6: 8.7673319 | G6: 12.493177 | H6: 15.044311 | I6: 17.1907 | J6: 19.719797 | K6: 23.76493 | L6: 27.819511 | M6: 29.316033 | N6: 30.774447 | O6: 33.169993 | P6: 32.92899
A7: Balance | B7: -1.2833786 | C7: -1.8432371 | D7: -1.2433212 | E7: 0.3862328 | F7: 2.53635 | G7: 5.2601832 | H7: 8.0192281 | I7: 9.6838306 | J7: 12.558367 | K7: 19.832311 | L7: 27.553948 | M7: 26.428837 | N7: 28.810542 | O7: 31.668986 | P7: 34.47079
A8: Valorización (estimación) | B8: 0.42304146 | C8: 0.44553519 | D8: 0.76344729 | E8: 1.4712672 | F8: 2.1930499 | G8: 2.2071398 | H8: 2.2559939 | I8: 3.037085 | J8: 3.6666641 | K8: 3.7822186 | L8: 5.9276757 | M8: 7.1084709 | N8: 8.235256 | O8: 10.060863 | P8: 9.8225934
A9: PIB nominal | B9: -0.76018009 | C9: -1.4847827 | D9: -2.1226324 | E9: -3.0421868 | F9: -4.0526647 | G9: -5.0967816 | H9: -6.3382568 | I9: -7.6017706 | J9: -8.408276 | K9: -9.2185713 | L9: -14.387424 | M9: -17.628727 | N9: -20.202115 | O9: -23.825474 | P9: -27.425507
A10: Operaciones bajo la línea (residuo) | B10: 4.140079 | C10: 6.2142299 | D10: 6.7792425 | E10: 7.5971073 | F10: 8.0905967 | G10: 10.122636 | H10: 11.107346 | I10: 12.071555 | J10: 11.903042 | K10: 9.368972 | L10: 8.7253118 | M10: 13.407452 | N10: 13.930764 | O10: 15.265618 | P10: 16.061113
A11: (1): Estimación.
A12: Fuente: Dipres.
