Workbook
Name \A: #REF!
Name \B: #REF!
Name \C: #REF!
Name \D: #REF!
Name \E: #REF!
Name \F: #REF!
Name \G: #REF!
Name \H: #REF!
Name \I: #REF!
Name \L: #REF!
Name \M: #REF!
Name \P: #REF!
Name \S: #REF!
Name \Y: #REF!
Name \Z: #REF!
Name _____TOT58: #REF!
Name ____TOT58: #REF!
Name ___TOT58: #REF!
Name __C: #REF!
Name __C: #REF!
Name __C: #REF!
Name __C: #REF!
Name __C: #REF!
Name __C: #REF!
Name __C: #REF!
Name __C: #REF!
Name __TOT58: #REF!
Name _0012TC: #REF!
Name _0012TC: #REF!
Name _0012TC: #REF!
Name _0012TC: #REF!
Name _0012TC: #REF!
Name _0012TC: #REF!
Name _0106TC: #REF!
Name _0106TC: #REF!
Name _0106TC: #REF!
Name _0106TC: #REF!
Name _0106TC: #REF!
Name _0112TC: #REF!
Name _0112TC: #REF!
Name _0112TC: #REF!
Name _0112TC: #REF!
Name _0112TC: #REF!
Name _1: #REF!
Name _2: #REF!
Name _3: #REF!
Name _88: #REF!
Name _89: #REF!
Name _a94: #REF!
Name _a95: #REF!
Name _aaV110: #REF!
Name _aIV114: #REF!
Name _aIV190: #REF!
Name _Arg1: #REF!
Name _Arg2: #REF!
Name _C: #REF!
Name _C: #REF!
Name _C: #REF!
Name _C: #REF!
Name _C: #REF!

Sheet Índice
A1: Índice
A3: Capítulo I. Situación macroeconómica y fiscal 2026
A4: ='C I.1.1'!A1 -> Cuadro I.1.1 | B4: ='C I.1.1'!A2 -> Supuestos macroeconómicos 2026 (p)
A5: ='C I.1.2'!A1 -> Cuadro I.1.2 | B5: ='C I.1.2'!A2 -> Detalles supuestos de crecimiento económico y cuenta corriente 2026 (p)
A6: ='C I.2.1'!A1 -> Cuadro I.2.1 | B6: ='C I.2.1'!A2 -> Ingresos del Gobierno Central total 2026 (p)
A7: ='C I.2.2'!A1 -> Cuadro I.2.2 | B7: ='C I.2.2'!A2 -> Ingresos tributarios netos 2026 (p)
A8: ='C I.3.1'!A1 -> Cuadro I.3.1 | B8: ='C I.3.1'!A2 -> Parámetros de referencia del balance cíclicamente ajustado 2026 (p)
A9: ='C I.3.2'!A1 -> Cuadro I.3.2 | B9: ='C I.3.2'!A2 -> Ingresos cíclicamente ajustados del Gobierno Central total 2026 (p)
A10: ='C I.4.1'!A1 -> Cuadro I.4.1 | B10: ='C I.4.1'!A2 -> Gasto del Gobierno Central total 2026 (p)
A11: ='C I.4.2'!A1 -> Cuadro I.4.2 | B11: ='C I.4.2'!A2 -> Balance del Gobierno Central total 2026 (p)
A12: ='C I.5.1'!A1 -> Cuadro I.5.1 | B12: ='C I.5.1'!A2 -> Necesidades de financiamiento del Gobierno Central 2026 (p)
A13: ='C I.6.1'!A1 -> Cuadro I.6.1 | B13: ='C I.6.1'!A2 -> Posición financiera neta del Gobierno Central total, cierre 2026 (p)(1)
A15: Capítulo II. Proyecto de Ley de Presupuestos para el Sector Público correspondiente al año 2027
A16: ='C II.1.1'!A1 -> Cuadro II.1.1 | B16: ='C II.1.1'!A2 -> Supuestos macroeconómicos 2027 (p)
A17: ='C II.1.2'!A1 -> Cuadro II.1.2 | B17: ='C II.1.2'!A2 -> Detalle supuestos de crecimiento económico y cuenta corriente 2027 (p)
A18: ='C II.2.1'!A1 -> Cuadro II.2.1 | B18: ='C II.2.1'!A2 -> Ingresos del Gobierno Central total 2027 (p)
A19: ='C II.2.2'!A1 -> Cuadro II.2.2 | B19: ='C II.2.2'!A2 -> Ingresos tributarios netos 2027 (p)
A20: ='C II.3.1'!A1 -> Cuadro II.3.1 | B20: ='C II.3.1'!A2 -> Antecedentes para determinar el umbral por ingresos del litio 2027
A21: ='C II.3.2'!A1 -> Cuadro II.3.2 | B21: ='C II.3.2'!A2 -> Parámetros de referencia del balance cíclicamente ajustado 2026 y 2027 (p)
A22: ='C II.3.3'!A1 -> Cuadro II.3.3 | B22: ='C II.3.3'!A2 -> Ingresos cíclicamente ajustados del Gobierno Central total 2027 (p)
A23: ='C II.4.1'!A1 -> Cuadro II.4.1 | B23: ='C II.4.1'!A2 -> Nivel y composición del gasto del Gobierno Central total 2027 (p)(1)
A24: ='C II.5.1'!A1 -> Cuadro II.5.1 | B24: ='C II.5.1'!A2 -> Balance devengado y cíclicamente ajustado del Gobierno Central total 2027 (p)
A25: ='C II.6.1'!A1 -> Cuadro II.6.1 | B25: ='C II.6.1'!A2 -> Necesidades de financiamiento del Gobierno Central 2027 (p)
A26: ='C II.7.1'!A1 -> Cuadro II.7.1 | B26: ='C II.7.1'!A2 -> Posición financiera neta del Gobierno Central total, cierre 2027 (p)(1)
A27: ='C II.8.1'!A1 -> Cuadro II.8.1 | B27: ='C II.8.1'!A2 -> Proyecto de Ley de Presupuestos 2027
A29: Capítulo III. Marco de mediano plazo del Sector Público 2028-2031
A30: ='C III.4.1'!A1 -> Cuadro III.4.1 | B30: ='C III.4.1'!A2 -> Supuestos macroeconómicos 2028-2031 (p)
A31: ='C III.4.2'!A1 -> Cuadro III.4.2 | B31: ='C III.4.2'!A2 -> Detalle supuestos de crecimiento económico y cuenta corriente 2028-2031 (p)
A32: ='C III.5.1'!A1 -> Cuadro III.5.1 | B32: ='C III.5.1'!A2 -> Ingresos del Gobierno Central total 2028-2031 (p)
A33: ='C III.6.1'!A1 -> Cuadro III.6.1 | B33: ='C III.6.1'!A2 -> Parámetros de referencia del balance cíclicamente ajustado 2028-2031 (p)
A34: ='C III.6.2'!A1 -> Cuadro III.6.2 | B34: ='C III.6.2'!A2 -> Ingresos cíclicamente ajustados del Gobierno Central total 2028-2031 (p)
A35: ='C III.7.1'!A1 -> Cuadro III.7.1 | B35: ='C III.7.1'!A2 -> Gastos de mediano plazo del Gobierno Central total 2028-2031 (p)
A36: ='C III.7.2'!A1 -> Cuadro III.7.2 | B36: ='C III.7.2'!A2 -> Consolidado Sector Público: Programa financiero por concepto de gastos 2028-2031 (p)
A37: ='C III.7.3'!A1 -> Cuadro III.7.3 | B37: ='C III.7.3'!A2 -> Proyectos de ley en trámite considerados en la programación financiera 2028-2031
A38: ='C III.8.1'!A1 -> Cuadro III.8.1 | B38: ='C III.8.1'!A2 -> Balances del Gobierno Central total 2028-2031 (p)
A39: ='C III.9.1'!A1 -> Cuadro III.9.1 | B39: ='C III.9.1'!A2 -> Stock de deuda bruta 2026-2030 (p)
A40: ='C III.9.2'!A1 -> Cuadro III.9.2 | B40: ='C III.9.2'!A2 -> Necesidades de financiamiento del Gobierno Central, cierre 2028-2031 (p)
A41: ='C III.10.1'!A1 -> Cuadro III.10.1 | B41: ='C III.10.1'!A2 -> Posición financiera neta del Gobierno Central total, cierre 2028-2031 (p)
A42: ='C III.11.1'!A1 -> Cuadro III.11.1 | B42: ='C III.11.1'!A2 -> Escenarios macroeconómicos alternativos 2027-2031 (p)
A43: ='C III.11.2'!A1 -> Cuadro III.11.2 | B43: ='C III.11.2'!A2 -> Balances del Gobierno Central total 2028-2031, escenario de menor crecimiento (p)
...

Sheet C I.1.1
A1: Cuadro I.1.1
A2: Supuestos macroeconómicos 2026 (p)
B4: IFP 2T26 | C4: IFP 3T26
A5: PIB | B5: 1.7544846 | C5: 0.65670834
A6: (var. real anual, %)
A7: PIB minero | B7: -0.91006354 | C7: -3.2584378
A8: (var. real anual, %)
A9: PIB no minero | B9: 2.1550602 | C9: 1.2452929
A10: (var. real anual, %)
A11: Demanda interna | B11: 2.3886021 | C11: 1.3249783
A12: (var. real anual, %)
A13: IPC | B13: 3.5971223 | C13: 3.7690611
A14: (var. anual, % promedio)
A15: Tipo de cambio | B15: 900.00065 | C15: 905.8066
A16: ($/US$, promedio, valor nominal)
A17: Precio del cobre | B17: 590.49703 | C17: 615.30814
A18: (USc$/lb, promedio, BML)
A19: Precio petróleo WTI | B19: 84.995999 | C19: 84.624664
A20: (US$/bbl)
A21: Precio del litio | B21: 19 | C21: 19.441118
A22: (US$/kg)
A23: Nota: Actualización del IFP 3T26 con un nivel de PIB nominal 2026 estimado en $368.922 miles de millones. Tipo de cambio a diciembre: 910. Cierre estadístico de proyecciones macroeconómicas: 18 de agosto de 2026.
A27: (p) Proyección.
A28: Fuente: Ministerio de Hacienda.

Sheet C I.1.2
A1: Cuadro I.1.2
A2: Detalles supuestos de crecimiento económico y cuenta corriente 2026 (p)
B4: IFP 2T26 | C4: IFP 3T26
A5: Demanda interna | B5: 2.3886021 | C5: 1.3249783
A6: (var. real anual, %)
A7: Consumo total | B7: 1.9522437 | C7: 1.9109398
A8: (var. real anual, %)
A9: Formación bruta de capital fijo | B9: 3.2647497 | C9: -0.42372703
A10: (var. real anual, %)
A11: Exportación de bienes y servicios | B11: -0.14192179 | C11: -2.594882
A12: (var. real anual, %)
A13: Importación de bienes y servicios | B13: 1.5979537 | C13: -0.93194125
A14: (var. real anual, %)
A15: Cuenta corriente | B15: -0.64314557 | C15: 0.89845463
A16: (% del PIB)
A17: (p) Proyección.
A18: Fuente: Ministerio de Hacienda.

Sheet C I.2.1
A1: Cuadro I.2.1
A2: Ingresos del Gobierno Central total 2026 (p)
A3: (millones de pesos 2026, % de variación real y % del PIB)
B5: IFP 2T26 | C5: IFP 3T26 | D5: Diferencia IFP 3T26-2T26 | E5: IFP 3T26
E6: Var. real anual (%) | F6: % del PIB
A7: TRANSACCIONES QUE AFECTAN EL PATRIMONIO NETO | B7: 79677858 | C7: 80643382 | D7: 965523.85 | E7: 7.0525931 | F7: 21.859177
A8: Ingresos tributarios netos | B8: 64312710 | C8: 64875231 | D8: 562520.69 | E8: 3.0914366 | F8: 17.585066
A9: Tributación minería privada (GMP10) | B9: 7235155 | C9: 7843160.7 | D9: 608005.62 | E9: 42.925021 | F9: 2.1259654
A10: Tributación resto contribuyentes | B10: 57077555 | C10: 57032070 | D10: -45484.932 | E10: -0.71397147 | F10: 15.4591
A11: Traspasos Codelco | B11: 2869639.4 | C11: 3140900.7 | D11: 271261.27 | E11: 72.546058 | F11: 0.85137183
A12: Cobre bruto | B12: 2869639.4 | C12: 3058414.7 | D12: 188775.3 | E12: 68.014673 | F12: 0.8290132
A13: Ingresos litio | B13: 0 | C13: 82485.976 | D13: 82485.976 | E13: - | F13: 0.02235863
A14: Imposiciones previsionales | B14: 5097208.1 | C14: 5097208.1 | D14: 0 | E14: 12.486636 | F14: 1.3816481
A15: Donaciones | B15: 110259.86 | C15: 151945.2 | D15: 41685.345 | E15: 102.58666 | F15: 0.041186233
A16: Rentas de la propiedad | B16: 2888366.8 | C16: 2948306 | D16: 59939.255 | E16: 60.957414 | F16: 0.79916717
A17: Ingresos por litio de Corfo | B17: 1108264.8 | C17: 1168204.1 | D17: 59939.255 | E17: 251.59106 | F17: 0.31665313
A18: Resto de rentas de la propiedad | B18: 1780102 | C18: 1780102 | D18: 0 | E18: 18.715543 | F18: 0.48251404
A19: Ingresos de operación | B19: 1584993 | C19: 1559771.9 | D19: -25221.064 | E19: -1.4833839 | F19: 0.42279143
A20: Otros ingresos | B20: 2814680.6 | C20: 2870019 | D20: 55338.347 | E20: 12.148803 | F20: 0.7779467
A21: TRANSACCIONES EN ACTIVOS NO FINANCIEROS | B21: 13813.787 | C21: 13813.787 | D21: 0 | E21: 10.602205 | F21: 0.0037443621
A22: Venta de activos físicos | B22: 13813.787 | C22: 13813.787 | D22: 0 | E22: 10.602205 | F22: 0.0037443621
A23: TOTAL INGRESOS | B23: 79691672 | C23: 80657196 | D23: 965523.85 | E23: 7.0531816 | F23: 21.862921
A24: (p) Proyección.
A25: Fuente: Dipres.

Sheet C I.2.2
A1: Cuadro I.2.2
A2: Ingresos tributarios netos 2026 (p)
A3: (millones de pesos 2026, % de variación real y % del PIB)
B5: IFP 2T26 | C5: IFP 3T26 | D5: Diferencia IFP 3T26-2T26 | E5: IFP 3T26
E6: Var. real anual (%) | F6: % del PIB
A7: Impuestos a la renta | B7: 28388421 | C7: 29937651 | D7: 1549229.8 | E7: 10.726085 | F7: 8.114893
A8: Declaración anual | B8: -382102.26 | C8: -158117.86 | D8: 223984.39 | E8: -508.67079 | F8: -0.042859392
A9: Impuestos | B9: 19693509 | C9: 19734717 | D9: 41207.829 | E9: 5.2546234 | F9: 5.349288
A10: Sistemas de pagos | B10: -20075612 | C10: -19892835 | D10: 182776.56 | E10: 6.3173335 | F10: -5.3921474
A11: Declaración y pago mensual | B11: 8624320.1 | C11: 9105808.2 | D11: 481488.14 | E11: 0.79703294 | F11: 2.4682183
A12: Pagos provisionales mensuales | B12: 20146204 | C12: 20989961 | D12: 843757.24 | E12: 16.837551 | F12: 5.6895341
A13: Impuesto al valor agregado | B13: 29914221 | C13: 29281097 | D13: -633124 | E13: -1.1629649 | F13: 7.9369275
A14: IVA declarado | B14: 46687985 | C14: 46054861 | D14: -633124 | E14: 0.50538686 | F14: 12.48362
A15: Crédito especial empresas constructoras | B15: -373129.49 | C15: -373129.49 | D15: 0 | E15: -10.753312 | F15: -0.1011404
A16: Devoluciones | B16: -16400634 | C16: -16400634 | D16: 0 | E16: 3.9359714 | F16: -4.4455523
A17: Impuestos a productos específicos | B17: 3578861.6 | C17: 3360597.1 | D17: -218264.51 | E17: -17.015199 | F17: 0.91092269
A18: Tabacos, cigarros y cigarrillos | B18: 934231.23 | C18: 951554.89 | D18: 17323.659 | E18: -3.4772362 | F18: 0.25792825
... A26: INGRESOS NETOS POR IMPUESTOS | B26: 64312710 | C26: 64875231 | D26: 562520.69 | E26: 3.0914366 | F26: 17.585066
A27: (p) Proyección.
A28: Fuente: Dipres.

Sheet C I.3.1
A1: Cuadro I.3.1
A2: Parámetros de referencia del balance cíclicamente ajustado 2026 (p)
B4: IFP 2T26 | C4: IFP 3T26
A5: PIB no minero
A6: PIB tendencial no minero (% de variación real) | B6: 2.5908259 | C6: 2.5908259
A7: Brecha: PIB no minero tendencial/PIB no minero (%) | B7: 1.12 | C7: 2.03
A8: Cobre
A9: Precio de referencia (USc$2026/lb) | B9: 438 | C9: 438
A10: Precio de cobre BML (USc$2026/lb) | B10: 590.49703 | C10: 615.30814
A11: Brecha: precio de referencia/precio BML (%) | B11: -25.825198 | C11: -28.816154
A12: Litio
A13: Umbral del litio (% del PIB) | B13: 0.3523318 | C13: 0.3523318
A14: Ajuste (% del PIB) | B14: N/A | C14: N/A
A15: Notas: El PIB no minero tendencial y el precio de referencia del cobre 2026 corresponden a los estimados por los Comités reunidos para el Presupuesto 2026, en julio de 2025. Por su parte, el umbral del litio 2026 corresponde al promedio de los ingresos por rentas de la propiedad provenientes de la explotación del litio de Corfo entre agosto de 2018 y julio de 2025, como porcentaje del PIB del período entre julio de 2018 y junio de 2025. Para reflejar la nueva metodología (Decreto Exento N° 203, de 2026, del Ministerio de Hacienda), a partir de este IFP, la brecha del precio del cobre se presenta como porcentaje, correspondiente a la diferencia del precio de referencia respecto del precio efectivo.
A23: N/A: No aplica. La diferencia entre los ingresos provenientes de la explotación del litio y el umbral del litio es negativa.
A25: (p) Proyección.
A26: Fuente: Dipres.

Sheet C I.3.2
A1: Cuadro I.3.2
A2: Ingresos cíclicamente ajustados del Gobierno Central total 2026 (p)
A3: (millones de pesos 2026 y % de variación real)
B5: IFP 2T26 | C5: IFP 3T26 | D5: Diferencia IFP 3T26-2T26 | E5: Variación IFP 3T26/2025(1) (%)
A6: Total Ingresos | B6: 77470122 | C6: 78661534 | D6: 1191411.4 | E6: 8.8549578
A7: Ingresos tributarios netos | B7: 63048039 | C7: 63975334 | D7: 927294.63 | E7: 3.8199878
A8: Tributación minería privada | B8: 5100911.9 | C8: 5269597 | D8: 168685.09 | E8: 11.29312
A9: Tributación resto de contribuyentes | B9: 57947127 | C9: 58705737 | D9: 758609.54 | E9: 3.1979706
A10: Traspasos Codelco al Fisco por cobre | B10: 1855246.7 | C10: 1861972.6 | D10: 6725.9104 | E10: 2332.6396
A11: Imposiciones previsionales de salud | B11: 4442446.5 | C11: 4332298.4 | D11: -110148.08 | E11: 13.897436
A12: Ingresos por litio (Codelco y Corfo) | B12: 1108264.8 | C12: 1250690 | D12: 142425.23 | E12: 276.41663
A13: Otros Ingresos(2) | B13: 7016125.6 | C13: 7241239.3 | D13: 225113.71 | E13: 12.637296
A14: (1) Los ingresos estructurales de 2025 no incluyen los cambios metodológicos implementados desde el IFP 2T26.
A15: (2) Las cifras correspondientes a otros ingresos no tienen ajuste cíclico por lo que los ingresos efectivos son iguales a los cíclicamente ajustados. Estas contemplan los ingresos por donaciones, rentas de la propiedad (sin los ingresos por litio de Corfo), ingresos de operación, otros ingresos, ventas de activos físicos e imposiciones previsionales del Ministerio del Trabajo.
A19: (p) Proyección.
A20: Fuente: Dipres.

Sheet C I.4.1
A1: Cuadro I.4.1
A2: Gasto del Gobierno Central total 2026 (p)
A3: (millones de pesos 2026 y % de variación real)
B5: MM$ | C5: Variación 2026/2025 (%) | D5: Variación 2026/ Ley Aprobada(1) (%)
A6: IFP 2T26(2) | B6: 86943684 | C6: 2.2251383 | D6: 0.79628206
A7: Plan de reactivación y empleo | B7: 337000
A8: IFP 3T26(3) | B8: 87280684 | C8: 2.4088933 | D8: 1.1869757
A9: (1) La Ley Aprobada incorpora la estimación de gasto extrapresupuestario.
A10: (2) Supone inflación y tipo de cambio del IFP 2T26: 3,6% y $900 por dólar, respectivamente.
A11: (3) Supone inflación y tipo de cambio del IFP 3T26: 3,8% y $906 por dólar, respectivamente.
A12: (p) Proyección.
A13: Fuente: Dipres.

Sheet C I.4.2
A1: Cuadro I.4.2
A2: Balance del Gobierno Central total 2026 (p)
A3: (millones de pesos 2026 y % del PIB(1))
C5: IFP 2T26(2) | E5: IFP 3T26
C6: MM$ | D6: % del PIB | E6: MM$ | F6: % del PIB
A7: (1) | B7: Ingresos efectivos | C7: 79691672 | D7: 21.871219 | E7: 80657196 | F7: 21.862921
A8: (2) | B8: Ingresos cíclicamente ajustados | C8: 77470122 | D8: 21.26152 | E8: 78661534 | F8: 21.321978
A9: (3) | B9: Gastos | C9: 86943684 | D9: 23.86152 | E9: 87280684 | F9: 23.658283
A10: (1) - (3) | B10: Balance efectivo | C10: -7252012.4 | D10: -1.9903003 | E10: -6623488.6 | F10: -1.7953613
A11: (2) - (3) | B11: Balance cíclicamente ajustado | C11: -9473561.7 | D11: -2.6 | E11: -8619150.3 | F11: -2.3363049
A12: (1) PIB proyectado en cada informe.
A13: (2) Escenario base.
A14: (p) Proyección.
A15: Fuente: Dipres.

Sheet C I.5.1
A1: Cuadro I.5.1
A2: Necesidades de financiamiento del Gobierno Central 2026 (p)
A3: (millones de pesos 2026)
C5: IFP 2T26 | D5: IFP 3T26
A6: Usos | B6: Necesidades de financiamiento | C6: 22553258 | D6: 24073706
B7: Déficit efectivo | C7: 7252012.4 | D7: 6623488.6
B8: Amortizaciones de deuda | C8: 6689408.2 | D8: 6750149.5
B9: Disminución de deuda flotante(1) | C9: 2812442.5 | D9: 2812442.5
B10: Ejecución garantía CAE | C10: 408362 | D10: 396949.11
B11: Compra cartera CAE | C11: 493672 | D11: 479874.87
B12: Bonos de reconocimiento | C12: 129340 | D12: 125725.21
B13: Acciones multilaterales | C13: 119630.79 | D13: 120402.53
B14: Aportes empresas públicas | C14: 349845.02 | D14: 320190.36
B15: Compra de títulos y valores de los servicios | C15: 746763.4 | D15: 711836.26
B16: Operación fondos del Tesoro Público(2) | C16: 857953.35 | D16: 1148250.1
B17: Préstamos netos (otorgamiento - recuperación) | C17: 1333715.8 | D17: 1296441.1
B18: Aporte a otros activos del tesoro público (OATP) | C18: 1360112.2 | D18: 3287955.8
A19: Fuentes | B19: Fuentes de financiamiento | C19: 22553258 | D19: 24073706
B20: Superávit efectivo | C20: 0 | D20: 0
B21: Emisión de deuda | C21: 19972242 | D21: 21473927
B22: Uso de activos financieros | C22: 899554.4 | D22: 948454.5
B23: Venta de títulos y valores de los servicios | C23: 776572.74 | D23: 746435.54
B24: Ingresos flotantes(3) | C24: 904888.44 | D24: 904888.44
A25: (1) Corresponde al uso para la disminución de los compromisos devengados y no pagados al 31 de diciembre del ejercicio presupuestario, en conformidad a lo dispuesto en los artículos N° 12 y N° 19 del D.L. N° 1.263 de 1975, en consecuencia, se proyectan solo para el año en curso.
A28: (2) A partir de este informe, la cuota del Banco Central de Chile (Dto N°1.526 de 2010 del Ministerio de Hacienda) se presenta dentro de operación de fondos del Tesoro Público.
A30: (3) Aquellos devengados y no percibidos al 31 de diciembre del año anterior, en conformidad a lo dispuesto en el artículo N° 12 del D.L. N° 1.263 de 1975, en consecuencia, se proyectan solo para el año en curso.
A32: (p) Proyección.
A33: Fuente: Dipres.

Sheet C I.6.1
A1: Cuadro I.6.1
A2: Posición financiera neta del Gobierno Central total, cierre 2026 (p)(1)
A3: (millones US$ al 31 de diciembre y % del PIB)
B5: IFP 2T26 | D5: IFP 3T26
B6: MMUS$ | C6: % del PIB | D6: MMUS$ | E6: % del PIB
A7: Activos del tesoro público | B7: 16065.228 | C7: 3.9978862 | D7: 18957.674 | E7: 4.6741438
A8: Deuda bruta | B8: 171429.19 | C8: 42.660731 | D8: 173165.22 | E8: 42.695068
A9: Posición financiera neta | B9: -155363.96 | C9: -38.662845 | D9: -154207.55 | E9: -38.020924
A10: (1) Estimaciones de tipo de cambio y PIB correspondientes a cada IFP.
A11: (p) Proyección.
A12: Fuente: Dipres.

Sheet C II.1.1
A1: Cuadro II.1.1
A2: Supuestos macroeconómicos 2027 (p)
B4: IFP 2T26 | C4: IFP 3T26
A5: PIB | B5: 2.8148681 | C5: 3.2688122
A6: (var. real anual, %)
A7: PIB minero | B7: 2.2236913 | C7: 2.941504
A8: (var. real anual, %)
A9: PIB no minero | B9: 2.9111233 | C9: 3.3317049
A10: (var. real anual, %)
A11: Demanda interna | B11: 2.9089299 | C11: 4.163862
A12: (var. real anual, %)
A13: IPC | B13: 2.6136771 | C13: 2.8751508
A14: (var. anual, % promedio)
A15: Tipo de cambio | B15: 897.52302 | C15: 885.90525
A16: ($/US$, promedio, valor nominal)
A17: Precio del cobre | B17: 551.47623 | C17: 564.84057
A18: (USc$/lb, promedio, BML)
A19: Precio petróleo WTI | B19: 74.839496 | C19: 75.108677
A20: (US$/bbl)
A21: Precio del litio | B21: 15 | C21: 18.019696
A22: (US$/kg)
A23: Nota: Actualización del IFP 3T26 con un nivel de PIB nominal 2027 estimado en $384.875 miles de millones. Tipo de cambio a diciembre 2027: 881. Cierre estadístico de proyecciones macroeconómicas: 18 de agosto de 2026.
A26: (p) Proyección.
A27: Fuente: Ministerio de Hacienda.

Sheet C II.1.2
A1: Cuadro II.1.2
A2: Detalle supuestos de crecimiento económico y cuenta corriente 2027 (p)
B4: IFP 2T26 | C4: IFP 3T26
A5: Demanda interna | B5: 2.9089299 | C5: 4.163862
A6: (var. real anual, %)
A7: Consumo total | B7: 2.6460718 | C7: 2.2174186
A8: (var. real anual, %)
A9: Formación bruta de capital fijo | B9: 6.7644145 | C9: 8.1211375
A10: (var. real anual, %)
A11: Exportación de bienes y servicios | B11: 3.7104427 | C11: 3.7383332
A12: (var. real anual, %)
A13: Importación de bienes y servicios | B13: 4.2269193 | C13: 6.7808564
A14: (var. real anual, %)
A15: Cuenta corriente | B15: -1.177904 | C15: -1.7815646
A16: (% del PIB)
A17: (p) Proyección.
A18: Fuente: Ministerio de Hacienda.

Sheet C II.2.1
A1: Cuadro II.2.1
A2: Ingresos del Gobierno Central total 2027 (p)
A3: (millones de pesos 2027, % de variación real y % del PIB)
B5: MM$ | C5: Variación 2027/2026 (%) | D5: % del PIB
A6: TRANSACCIONES QUE AFECTAN EL PATRIMONIO NETO | B6: 84395304 | C6: 1.7276621 | D6: 21.927988
A7: Ingresos tributarios netos | B7: 69088630 | C7: 3.5183121 | D7: 17.950935
A8: Tributación minería privada (GMP10) | B8: 8232606 | C8: 2.0318432 | D8: 2.1390347
A9: Tributación resto contribuyentes | B9: 60856024 | C9: 3.7227342 | D9: 15.811901
A10: Traspasos Codelco | B10: 2525760.2 | C10: -21.832284 | D10: 0.65625498
A11: Cobre bruto | B11: 2446178.8 | C11: -22.25341 | D11: 0.63557778
A12: Ingresos litio | B12: 79581.329 | C12: -6.2177637 | D12: 0.020677198
A13: Imposiciones previsionales | B13: 5380093.8 | C13: 2.5999141 | D13: 1.3978815
A14: Donaciones | B14: 95152.47 | C14: -39.127298 | D14: 0.024722966
A15: Rentas de la propiedad | B15: 2655722.9 | C15: -12.441218 | D15: 0.69002251
A16: Ingresos por litio de Corfo | B16: 875251.27 | C16: -27.171133 | D16: 0.22741193
A17: Resto de rentas de la propiedad | B17: 1780471.6 | C17: -2.774611 | D17: 0.46261058
... A22: TOTAL INGRESOS | B22: 84424236 | C22: 1.7451074 | D22: 21.935505
A23: (p) Proyección.
A24: Fuente: Dipres.

Sheet C II.2.2
A1: Cuadro II.2.2
A2: Ingresos tributarios netos 2027 (p)
A3: (millones de pesos 2027 y % de variación real)
B5: MM$ | C5: Variación 2027/2026 (%)
A6: Impuestos a la renta | B6: 31509153 | C6: 2.3077477
A7: Minería privada | B7: 8232606 | C7: 2.0318432
A8: Resto de contribuyentes | B8: 23276547 | C8: 2.405689
A9: Impuesto al valor agregado | B9: 30800718 | C9: 2.2499305
A10: Impuestos a productos específicos | B10: 4163022.6 | C10: 20.415347
A11: Tabacos, cigarros y cigarrillos | B11: 987847.57 | C11: 0.91264956
A12: Combustibles | B12: 3099688.7 | C12: 29.147808
A13: Derechos de extracción ley de pesca | B13: 75486.367 | C13: -3.4656374
A14: Impuestos a los actos jurídicos | B14: 1015320.9 | C14: 5.0988209
A15: Impuestos al comercio exterior | B15: 648466.35 | C15: 16.162244
A16: Otros | B16: 951948.75 | C16: 13.653179
A17: Fluctuación deudores más diferencias pendientes | B17: -1527684.8 | C17: 1.2128797
... A19: INGRESOS NETOS POR IMPUESTOS | B19: 69088630 | C19: 3.5183121
A20: (p) Proyección.
A21: Fuente: Dipres.

Sheet C II.3.1
A1: Cuadro II.3.1
A2: Antecedentes para determinar el umbral por ingresos del litio 2027
A3: (% del PIB)
B5: Ingresos presupuestarios de litio de Corfo y Codelco
A6: agosto 2019 - julio 2020 | B6: 0.048971374
A7: agosto 2020 - julio 2021 | B7: 0.026223588
A8: agosto 2021 - julio 2022 | B8: 0.63155767
A9: agosto 2022 - julio 2023 | B9: 1.1991941
A10: agosto 2023 - julio 2024 | B10: 0.3745178
A11: agosto 2024 - julio 2025 | B11: 0.10233445
A12: agosto 2025 - julio 2026 | B12: 0.2554503
A13: Umbral | B13: 0.37689275
A14: Nota: El umbral de litio es calculado como el promedio de los períodos expuestos (entre agosto y julio del año correspondiente), como porcentaje del PIB (entre julio y junio del año correspondiente).
A18: Fuente: Corfo.

Sheet C II.3.2
A1: Cuadro II.3.2
A2: Parámetros de referencia del balance cíclicamente ajustado 2026 y 2027 (p)
B4: 2026 | C4: 2027
A5: PIB no minero
A6: PIB tendencial no minero (% de variación real) | B6: 2.5908259 | C6: 2.62796
A7: Brecha: PIB no minero tendencial/PIB no minero (%) | B7: 2.03 | C7: 0.69
A8: Cobre
A9: Precio de referencia (USc$2027/lb) | B9: 447.37848 | C9: 537
A10: Precio de cobre BML (USc$2027/lb) | B10: 628.48316 | C10: 564.84057
A11: Brecha: precio de referencia/precio BML (%) | B11: -28.816154 | C11: -4.9289253
A12: Litio
A13: Umbral del litio (% del PIB) | B13: 0.3523318 | C13: 0.37689275
A14: Ajuste (% del PIB) | B14: N/A | C14: N/A
A15: Nota: El PIB no minero tendencial y el precio de referencia del cobre de 2026 corresponden a los estimados por los Comités reunidos en julio de 2025, mientras que los de 2027 corresponden a los reunidos con ocasión de la elaboración del Presupuesto del año 2027, en julio de este año. El umbral del litio 2027 corresponde al promedio de los ingresos provenientes de la explotación del litio de Corfo y Codelco entre agosto de 2019 y julio de 2026, como porcentaje del PIB del período entre julio de 2019 y junio de 2026. Para reflejar la nueva metodología, a partir de este IFP, la brecha del precio del cobre se presenta como porcentaje. Por su parte, 2026 se presenta en USc$2027 para mejor comparabilidad, deflactado con el IPC de EEUU estimado por el FMI en el World Economic Outlook de abril de 2026, correspondiente al utilizado por el comité del precio de referencia del cobre (variación promedio 2027: 2,14%).
A26: N/A: No aplica. La diferencia entre los ingresos provenientes de la explotación del litio y el umbral del litio es negativa.
A28: (p) Proyección.
A29: Fuente: Dipres.

Sheet C II.3.3
A1: Cuadro II.3.3
A2: Ingresos cíclicamente ajustados del Gobierno Central total 2027 (p)
A3: (millones de pesos de 2027, % de variación real y % del PIB)
B5: MM$ | C5: Variación 2027/2026 (%) | D5: % del PIB
A6: Total ingresos | B6: 84248069 | C6: 4.1087093 | D6: 21.889733
A7: Ingresos tributarios netos | B7: 69050020 | C7: 4.9157688 | D7: 17.940904
A8: Tributación minería privada | B8: 7759861.3 | C8: 43.141667 | D8: 2.016204
A9: Tributación resto de contribuyentes | B9: 61290159 | C9: 1.4845014 | D9: 15.9247
A10: Traspasos Codelco al Fisco por cobre | B10: 2272159.8 | C10: 18.619232 | D10: 0.59036333
A11: Imposiciones previsionales de salud | B11: 4550450.6 | C11: 2.099958 | D11: 1.1823197
A12: Ingresos por litio (Codelco y Corfo) | B12: 954832.6 | C12: -25.789209 | D12: 0.24808913
A13: Otros Ingresos(1) | B13: 7420605.9 | C13: -0.3870079 | D13: 1.928057
A14: (1) Las cifras correspondientes a otros ingresos no tienen ajuste cíclico por lo que los ingresos efectivos son iguales a los cíclicamente ajustados. Estas contemplan los ingresos por donaciones, rentas de la propiedad (sin los ingresos por litio de Corfo), ingresos de operación, otros ingresos, ventas de activos físicos e imposiciones previsionales del Ministerio del Trabajo.
A18: (p) Proyección.
A19: Fuente: Dipres.

Sheet C II.4.1
A1: Cuadro II.4.1
A2: Nivel y composición del gasto del Gobierno Central total 2027 (p)(1)
A3: (millones de pesos 2027 y % de variación real)
B5: Cierre proyectado 2026 | C5: Proyecto de ley de Presupuestos 2027 | D5: Variación 2027/2026 (%) | E5: % del PIB
A8: Gastos que afectan el patrimonio neto | B8: 77386451 | C8: 77868578 | D8: 0.62301297 | E8: 20.232183
A9: Personal | B9: 19158249 | C9: 19158964 | D9: 0.0037298444 | E9: 4.9779728
A10: Bienes y servicios de consumo y producción | B10: 7431444.9 | C10: 7253526.3 | D10: -2.3941314 | E10: 1.8846456
A11: Intereses | B11: 4746775.4 | C11: 5093706.5 | D11: 7.3087728 | E11: 1.323471
A12: Subsidios y donaciones | B12: 28926601 | C12: 29856773 | D12: 3.215629 | E12: 7.7575283
A13: Prestaciones previsionales | B13: 16956039 | C13: 16472320 | D13: -2.852783 | E13: 4.2799163
A14: Otros | B14: 167340.85 | C14: 33288.258 | D14: -80.107512 | E14: 0.008649113
A15: Gastos en activos no financieros | B15: 12403685 | C15: 13307238 | D15: 7.2845536 | E15: 3.4575496
A16: Inversión | B16: 4947612.4 | C16: 5381378.3 | D16: 8.7671769 | E16: 1.3982152
A17: Transferencias de capital | B17: 7456072.5 | C17: 7925859.6 | D17: 6.300732 | E17: 2.0593344
A18: Total gastos | B18: 89790135 | C18: 91175816 | D18: 1.5432438 | E18: 23.689733
A19: (1) Las cifras corresponden al gasto del Gobierno Central total, lo que incluye las estimaciones respectivas de gasto extrapresupuestario en Gasto por Intereses.
A21: (p) Proyección.
A22: Fuente: Dipres.

Sheet C II.5.1
A1: Cuadro II.5.1
A2: Balance devengado y cíclicamente ajustado del Gobierno Central total 2027 (p)
A3: (% del PIB)
C5: 2027
A6: (1) | B6: Balance devengado | C6: -1.7542277
A7: (2)=(3)+(6)+(9) | B7: Efecto cíclico en los ingresos | C7: 0.045772338
A8: (3)=(4)+(5) | B8: Efecto cíclico en los ingresos tributarios no mineros y cotizaciones de salud | C8: -0.12227286
A9: (4) | B9: Ingresos tributarios no mineros | C9: -0.11279893
A10: (5) | B10: Imposiciones previsionales de Salud | C10: -0.0094739262
A11: (6)=(7)+(8) | B11: Efecto cíclico del cobre | C11: 0.1680452
A12: (7) | B12: Codelco | C12: 0.045214449
A13: (8) | B13: Tributación minería privada | C13: 0.12283075
A14: (9) | B14: Efecto del litio | C14: 0
A15: (10)=(1)-(2) | B15: Balance cíclicamente ajustado | C15: -1.8
A16: Nota: Los porcentajes no suman el total debido a la aproximación de decimales.
A17: (p) Proyección.
A18: Fuente: Dipres.

Sheet C II.6.1
A1: Cuadro II.6.1
A2: Necesidades de financiamiento del Gobierno Central 2027 (p)
A3: (millones de pesos 2027)
C5: IFP 2T26 | D5: IFP 3T26 | E5: Diferencia
A6: Usos | B6: Necesidades de financiamiento | C6: 20045883 | D6: 24665217 | E6: 4619334.4
B7: Déficit efectivo | C7: 5750052.4 | D7: 6751580.5 | E7: 1001528.2
B8: Amortizaciones de deuda | C8: 9324133.7 | D8: 15435052 | E8: 6110918.1
B9: Ejecución garantía CAE | C9: 400543.54 | D9: 302977.67 | E9: -97565.869
B10: Compra cartera CAE | C10: 510072.07 | D10: 489335.51 | E10: -20736.555
B11: Bonos de reconocimiento | C11: 67039.126 | D11: 67213.12 | E11: 173.99369
B12: Acciones multilaterales | C12: 106126.71 | D12: 104753.87 | E12: -1372.8452
B13: Aportes empresas públicas | C13: 484655.68 | D13: 484235.24 | E13: -420.44356
B14: Compra de títulos y valores de los servicios | C14: 805529.76 | D14: 369906.71 | E14: -435623.05
B15: Operación fondos del Tesoro Público(1) | C15: 1587330.2 | D15: 564075.15 | E15: -1023255.1
B16: Préstamos netos (otorgamiento - recuperación) | C16: 1010399.6 | D16: 96087.603 | E16: -914311.99
A17: Fuentes | B17: Fuentes de financiamiento | C17: 20045883 | D17: 24665217 | E17: 4619334.4
B18: Superávit efectivo | C18: 0 | D18: 0 | E18: 0
B19: Emisión de deuda | C19: 18117386 | D19: 21675540 | E19: 3558153.3
B20: Uso de activos financieros | C20: 1105745.7 | D20: 2171950 | E20: 1066204.4
B21: Venta de títulos y valores de los servicios | C21: 822750.86 | D21: 817727.64 | E21: -5023.2156
A22: (1) A partir de este informe, la cuota del Banco Central de Chile (Dto N°1.526 de 2010 del Ministerio de Hacienda) se presenta dentro de operación de fondos del Tesoro Público.
A24: (p) Proyección.
A25: Fuente: Dipres.

Sheet C II.7.1
A1: Cuadro II.7.1
A2: Posición financiera neta del Gobierno Central total, cierre 2027 (p)(1)
A3: (millones US$ al 31 de diciembre y % del PIB)
B5: IFP 2T26 | D5: IFP 3T26
B6: MMUS$ | C6: % del PIB | D6: MMUS$ | E6: % del PIB
A7: Activos del tesoro público | B7: 16087.476 | C7: 3.8 | D7: 16862.95 | E7: 3.8594943
A8: Deuda bruta | B8: 184644.77 | C8: 43.530959 | D8: 185699.06 | E8: 42.501724
A9: Posición financiera neta | B9: -168557.29 | C9: -39.730959 | D9: -168836.11 | E9: -38.64223
A10: (1) Estimaciones de tipo de cambio y PIB correspondientes a cada IFP.
A11: (p) Proyección.
A12: Fuente: Dipres.

Sheet C II.8.1
A1: Cuadro II.8.1
A2: Proyecto de Ley de Presupuestos 2027
A3: (miles de pesos 2027 y % de variación real)
A5: N° | B5: PARTIDAS | C5: Ley inicial 2026 + Dif. reajuste + leyes especiales + ajustes | D5: Proyecto de Ley de Presupuestos 2027 | E5: Diferencia | F5: Variación (%)
A8: 01 | B8: PRESIDENCIA DE LA REPÚBLICA | C8: 23554770 | D8: 22806322 | E8: -748448 | F8: -3.1774796
A9: 02 | B9: CONGRESO NACIONAL | C9: 187992900 | D9: 188229031 | E9: 236131 | F9: 0.12560634
A10: 03 | B10: PODER JUDICIAL | C10: 804787499 | D10: 832845266 | E10: 28057767 | F10: 3.4863572
A11: 04 | B11: CONTRALORÍA GENERAL DE LA REPÚBLICA | C11: 123618682 | D11: 130959397 | E11: 7340715 | F11: 5.9381923
A12: 05 | B12: MINISTERIO DEL INTERIOR | C12: 681288963 | D12: 683510887 | E12: 2221924 | F12: 0.32613533
A13: 06 | B13: MINISTERIO DE RELACIONES EXTERIORES | C13: 289389858 | D13: 301309062 | E13: 11919204 | F13: 4.1187359
A14: 07 | B14: MINISTERIO DE ECONOMÍA, FOMENTO Y TURISMO | C14: 651085912 | D14: 631990441 | E14: -19095471 | F14: -2.932865
A15: 08 | B15: MINISTERIO DE HACIENDA | C15: 714974215 | D15: 699566466 | E15: -15407749 | F15: -2.1550076
A16: 09 | B16: MINISTERIO DE EDUCACIÓN | C16: 17322835875 | D16: 17320010878 | E16: -2824997 | F16: -0.016307936
A17: 10 | B17: MINISTERIO DE JUSTICIA Y DERECHOS HUMANOS | C17: 842689409 | D17: 1015437290 | E17: 172747881 | F17: 20.499591
A18: 11 | B18: MINISTERIO DE DEFENSA NACIONAL | C18: 2393757137 | D18: 2556931638 | E18: 163174501 | F18: 6.816669
A19: 12 | B19: MINISTERIO DE OBRAS PÚBLICAS | C19: 4312139559 | D19: 4694632726 | E19: 382493167 | F19: 8.8701481
... A39: 32 | B39: MINISTERIO DE SEGURIDAD PÚBLICA | C39: 3256038505 | D39: 3483451730 | E39: 227413225 | F39: 6.9843531
A40: Nota: No considera el descuento de transacciones consolidables, con el objetivo de reflejar la totalidad de los movimientos presupuestarios de las partidas.
A41: Fuente: Dipres.

Sheet C III.4.1
A1: Cuadro III.4.1
A2: Supuestos macroeconómicos 2028-2031 (p)
B4: 2028 | D4: 2029 | F4: 2030 | H4: 2031
B5: IFP 2T26 | C5: IFP 3T26 | D5: IFP 2T26 | E5: IFP 3T26 | F5: IFP 2T26 | G5: IFP 3T26 | H5: IFP 2T26 | I5: IFP 3T26
A6: PIB | B6: 2.1657997 | C6: 2.8256122 | D6: 2.2290758 | E6: 3.2186996 | F6: 2.140926 | G6: 3.5487003 | H6: - | I6: 3.4680347
A7: (var. real anual, %)
A8: PIB minero | B8: 1.7118666 | C8: 1.102876 | D8: 2.2765519 | E8: 1.2957476 | F8: 2.011212 | G8: 1.5057776 | H8: - | I8: 2.2299464
A9: (var. real anual, %)
A10: PIB no minero | B10: 2.2330476 | C10: 3.1228761 | D10: 2.2223939 | E10: 3.526447 | F10: 2.1586852 | G10: 3.8577425 | H10: - | I10: 3.6447048
A11: (var. real anual, %)
A12: Demanda interna | B12: 2.1203699 | C12: 3.8454956 | D12: 2.2657224 | E12: 4.2943057 | F12: 2.008406 | G12: 4.4380685 | H12: - | I12: 4.4817854
A13: (var. real anual, %)
A14: IPC | B14: 3.0440623 | C14: 3.0440623 | D14: 2.9686648 | E14: 2.9686648 | F14: 3.0454534 | G14: 3.0454534 | H14: - | I14: 3.0454534
A15: (var. anual, % promedio)
A16: Tipo de cambio | B16: 895.05253 | C16: 890.7886 | D16: 895.05253 | E16: 890.71914 | F16: 895.05253 | G16: 890.76344 | H16: - | I16: 890.78542
A17: ($/US$, promedio, valor nominal)
A18: Precio del cobre | B18: 540.80846 | C18: 560.46786 | D18: 541.20703 | E18: 560.46786 | F18: 541.47601 | G18: 560.46786 | H18: - | I18: 560.46786
A19: (USc$/lb, promedio, BML)
A20: Precio petróleo WTI | B20: 71.207329 | C20: 71.04931 | D20: 70.838898 | E20: 71.04931 | F20: 71.012888 | G20: 71.04931 | H20: - | I20: 71.04931
A21: (US$/bbl)
A22: Precio del litio | B22: 15 | C22: 17.029429 | D22: 15 | E22: 16.003691 | F22: 15 | G22: 15.005892 | H22: - | I22: 15.005892
A23: (US$/kg)
A24: Nota: Actualización del IFP 3T26 con un nivel de PIB nominal 2028 estimado en $404.049 miles de millones, PIB nominal 2029 estimado en $425.715 miles de millones, PIB nominal 2030 estimado en $450.156 miles de millones y PIB nominal 2031 estimado en $476.489 miles de millones; y un tipo de cambio a diciembre 2028 de 891 $/US$, a diciembre 2029 de 891 $/US$, a diciembre 2030 de 891 $/US$, a diciembre 2031 de 891 $/US$. Cierre estadístico de proyecciones macroeconómicas: 18 de agosto de 2026.
A28: (p) Proyección.
A29: Fuente: Ministerio de Hacienda.

Sheet C III.4.2
A1: Cuadro III.4.2
A2: Detalle supuestos de crecimiento económico y cuenta corriente 2028-2031 (p)
B4: 2028 | D4: 2029 | F4: 2030 | H4: 2031
B5: IFP 2T26 | C5: IFP 3T26 | D5: IFP 2T26 | E5: IFP 3T26 | F5: IFP 2T26 | G5: IFP 3T26 | H5: IFP 2T26 | I5: IFP 3T26
A6: Demanda interna | B6: 2.1203699 | C6: 3.8454956 | D6: 2.2657224 | E6: 4.2943057 | F6: 2.008406 | G6: 4.4380685 | H6: - | I6: 4.4817854
A7: (var. real anual, %)
A8: Consumo total | B8: 2.1938309 | C8: 2.3839457 | D8: 2.3426919 | E8: 2.464001 | F8: 2.3209725 | G8: 2.5544954 | H8: - | I8: 2.6179351
A9: (var. real anual, %)
A10: Formación bruta de capital fijo | B10: 2.4964664 | C10: 6.9300391 | D10: 2.5450721 | E10: 7.5773585 | F10: 3.0404774 | G10: 7.8118984 | H10: - | I10: 7.5448751
A11: (var. real anual, %)
A12: Exportación de bienes y servicios | B12: 3.2166885 | C12: 2.7180113 | D12: 2.7661882 | E12: 2.9359358 | F12: 2.9610978 | G12: 3.2793001 | H12: - | I12: 3.6169407
A13: (var. real anual, %)
A14: Importación de bienes y servicios | B14: 3.2779638 | C14: 6.0339024 | D14: 2.9841157 | E14: 6.3617125 | F14: 2.6745402 | G14: 6.0846582 | H14: - | I14: 6.8285569
A15: (var. real anual, %)
A16: Cuenta corriente | B16: -1.2284929 | C16: -2.4099749 | D16: -1.4707584 | E16: -2.8029041 | F16: -1.5616249 | G16: -2.9885126 | H16: - | I16: -3.0205775
A17: (% del PIB)
A18: (p) Proyección.
A19: Fuente: Ministerio de Hacienda.

Sheet C III.5.1
A1: Cuadro III.5.1
A2: Ingresos del Gobierno Central total 2028-2031 (p)
A3: (millones de pesos 2027)
B5: 2028 | C5: 2029 | D5: 2030 | E5: 2031
A6: TRANSACCIONES QUE AFECTAN EL PATRIMONIO NETO | B6: 84988773 | C6: 86674820 | D6: 88430370 | E6: 90929015
A7: Ingresos tributarios netos | B7: 69725476 | C7: 71966474 | D7: 74235042 | E7: 76672047
A8: Tributación minería privada (GMP10) | B8: 7103794.1 | C8: 6936154.2 | D8: 6734775.3 | E8: 6634057.6
A9: Tributación resto contribuyentes | B9: 62621682 | C9: 65030320 | D9: 67500266 | E9: 70037989
A10: Traspasos Codelco | B10: 2919411.9 | C10: 2164776.1 | D10: 1519124.1 | E10: 1406000
A11: Cobre bruto | B11: 2841766.2 | C11: 2101126.2 | D11: 1318694.8 | E11: 1210719.4
A12: Ingresos litio | B12: 77645.795 | C12: 63649.9 | D12: 200429.3 | E12: 195280.58
A13: Imposiciones previsionales | B13: 5499129.7 | C13: 5624180.4 | D13: 5746922.7 | E13: 5872384.6
A14: Donaciones | B14: 102425.54 | C14: 103295.39 | D14: 104705.15 | E14: 105817.56
A15: Rentas de la propiedad | B15: 2127245.8 | C15: 2121884.1 | D15: 2044073.2 | E15: 2009188.2
A16: Ingresos por litio de Corfo | B16: 795745.44 | C16: 773292 | D16: 736294.39 | E16: 701986.26
A17: Resto de rentas de la propiedad | B17: 1331500.3 | C17: 1348592.1 | D17: 1307778.8 | E17: 1307202
... A22: TOTAL | B22: 85014000 | C22: 86690367 | D22: 88440863 | E22: 90939502
A23: (p) Proyección.
A24: Fuente: Dipres.

Sheet C III.6.1
A1: Cuadro III.6.1
A2: Parámetros de referencia del balance cíclicamente ajustado 2028-2031 (p)
B4: 2028 | D4: 2029 | F4: 2030 | H4: 2031
B5: IFP 2T26 | C5: IFP 3T26 | D5: IFP 2T26 | E5: IFP 3T26 | F5: IFP 2T26 | G5: IFP 3T26 | H5: IFP 2T26 | I5: IFP 3T26
A6: PIB no minero
A7: PIB tendencial no minero (% de variación real) | B7: 1.9171387 | C7: 2.1591458 | D7: 2.0411089 | E7: 2.302676 | F7: 2.0486862 | G7: 2.2608894 | H7: - | I7: 2.2274941
A8: Brecha PIB no minero (%) | B8: -0.13 | C8: -0.25 | D8: -0.3 | E8: -1.43 | F8: -0.41 | G8: -2.94 | H8: - | I8: -4.27
A9: Cobre
A10: Precio de referencia (USc$2027/lb) | B10: 447.37848 | C10: 537 | D10: 447.37848 | E10: 537 | F10: 447.37848 | G10: 537 | H10: - | I10: 537
A11: Precio de cobre BML (USc$2027/lb) | B11: 529.25106 | C11: 548.49032 | D11: 518.3005 | E11: 536.74611 | F11: 507.44671 | G11: 525.245 | H11: - | I11: 514.01685
A12: Brecha: precio de referencia/precio BML (%) | B12: -15.469516 | C12: -2.0949001 | D12: -13.683571 | E12: 0.047300899 | F12: -11.837347 | G12: 2.2380024 | H12: - | I12: 4.471283
A13: Litio
A14: Umbral del litio (% del PIB) | B14: 0.3523318 | C14: 0.37689275 | D14: 0.3523318 | E14: 0.37689275 | F14: 0.3523318 | G14: 0.37689275 | H14: - | I14: 0.37689275
A15: Ajuste (% del PIB) | B15: N/A | C15: N/A | D15: N/A | E15: N/A | F15: N/A | G15: N/A | H15: - | I15: N/A
A16: Nota: El PIB no minero tendencial y el precio de referencia del cobre del IFP 2T26 corresponden a los estimados por los Comités reunidos en julio de 2025, mientras que los del IFP 3T26 corresponden a los reunidos con ocasión de la elaboración del Presupuesto del año 2027, en julio de este año. El umbral del litio del IFP 3T26 corresponde al promedio de los ingresos provenientes de la explotación del litio de Corfo y Codelco entre agosto de 2019 y julio de 2026, como porcentaje del PIB del período entre julio de 2019 y junio de 2026. Para reflejar la nueva metodología, a partir de este IFP, la brecha del precio del cobre se presenta como porcentaje. Por su parte, el IFP 2T26 se presenta en USc$2027 para mejor comparabilidad, deflactado con el IPC de EEUU estimado por el FMI en el World Economic Outlook de abril de 2026, correspondiente al utilizado por el comité del precio de referencia del cobre (variación promedio 2027: 2,14%).
A22: N/A: No aplica. La diferencia entre los ingresos provenientes de la explotación del litio y el umbral del litio es negativa.
A23: (p) Proyección.
A24: Fuente: Dipres.

Sheet C III.6.2
A1: Cuadro III.6.2
A2: Ingresos cíclicamente ajustados del Gobierno Central total 2028-2031 (p)
A3: (millones de pesos 2027)
B5: 2028 | C5: 2029 | D5: 2030 | E5: 2031
A6: TOTAL INGRESOS | B6: 84409275 | C6: 85273643 | D6: 85779766 | E6: 87157184
A7: Ingresos tributarios netos | B7: 69220931 | C7: 70629285 | D7: 71702908 | E7: 73068877
A8: Tributación minería privada | B8: 6929989.7 | C8: 6939993 | D8: 6911456.3 | E8: 6982414.8
A9: Tributación resto contribuyentes | B9: 62290941 | C9: 63689292 | D9: 64791452 | E9: 66086462
A10: Traspasos Codelco al Fisco por cobre | B10: 2755269.6 | C10: 2102577.4 | D10: 1362003.8 | E10: 1290562.5
A11: Imposiciones previsionales de salud | B11: 4665001.6 | C11: 4765400.3 | D11: 4848592.8 | E11: 4944190.3
A12: Ingresos por litio (Codelco y Corfo) | B12: 873391.24 | C12: 836941.9 | D12: 936723.69 | E12: 897266.84
A13: Otros Ingresos(1) | B13: 6894682.1 | C13: 6939438.9 | D13: 6929537.2 | E13: 6956288.1
A14: (1) Las cifras correspondientes a otros ingresos no tienen ajuste cíclico por lo que los ingresos efectivos son iguales a los cíclicamente ajustados. Estas contemplan los ingresos por donaciones, rentas de la propiedad (sin los ingresos por litio de Corfo), ingresos de operación, otros ingresos, ventas de activos físicos e imposiciones previsionales del Ministerio del Trabajo.
A18: (p) Proyección.
A19: Fuente: Dipres.

Sheet C III.7.1
A1: Cuadro III.7.1
A2: Gastos de mediano plazo del Gobierno Central total 2028-2031 (p)
A3: (millones de pesos 2027)
C5: 2028 | D5: 2029 | E5: 2030 | F5: 2031
A6: TOTAL DE GASTOS MEDIANO PLAZO | C6: 92922047 | D6: 95361358 | E6: 97161665 | F6: 95734968
A7: DE TRANSACCIONES QUE AFECTAN EL PATRIMONIO NETO | C7: 80320810 | D7: 81923897 | E7: 83324039 | F7: 83738907
A8: Personal | C8: 20566183 | D8: 21466883 | E8: 21667980 | F8: 21916270
A9: Bienes y servicios de consumo y producción | C9: 7600861.5 | D9: 7883612.6 | E9: 7863871.8 | F9: 7956434.9
A10: Intereses | C10: 5823371.9 | D10: 6415483.5 | E10: 6859324.5 | F10: 7056478.1
A11: Subsidios y donaciones | C11: 29186510 | D11: 28681655 | E11: 29120701 | F11: 28650947
A12: Prestaciones previsionales | C12: 17110595 | D12: 17442975 | E12: 17778873 | F12: 18125488
A13: Otros | C13: 33288.268 | D13: 33288.268 | E13: 33288.268 | F13: 33288.268
A14: GASTOS EN ACTIVOS NO FINANCIEROS | C14: 12601238 | D14: 13437461 | E14: 13837627 | F14: 11996062
A15: Inversión | C15: 5024788 | D15: 5141399.2 | E15: 4977885.3 | F15: 4611584.1
A16: Transferencias de capital | C16: 7576449.7 | D16: 8296061.6 | E16: 8859741.4 | F16: 7384477.8
A17: (p) Proyección.
A18: Fuente: Dipres.

Sheet C III.7.2
A1: Cuadro III.7.2
A2: Consolidado Sector Público: Programa financiero por concepto de gastos 2028-2031 (p)
A3: (millones de pesos 2027)
A5: Conceptos de gastos | C5: 2028 | D5: 2029 | E5: 2030 | F5: 2031
A8: 1. | B8: Gasto operacionales | C8: 28167045 | D8: 29350495 | E8: 29531852 | F8: 29872705
A9: 1.1 | B9: Gastos en personal | C9: 20566183 | D9: 21466883 | E9: 21667980 | F9: 21916270
A10: 1.2 | B10: Bienes y servicios de consumo | C10: 7600861.5 | D10: 7883612.6 | E10: 7863871.8 | F10: 7956434.9
A11: 2. | B11: Transferencias corrientes | C11: 29153734 | D11: 28648860 | E11: 29087895 | F11: 28618135
A12: 2.1 | B12: Al sector privado | C12: 12133234 | D12: 11612351 | E12: 11371710 | F12: 11116351
A13: 2.2 | B13: Otras entidades públicas | C13: 13093856 | D13: 13118735 | E13: 13752082 | F13: 13491801
A14: 2.3 | B14: Otras | C14: 3926644.4 | D14: 3917773 | E14: 3964102.1 | F14: 4009982.7
A15: 3. | B15: Inversiones | C15: 12601238 | D15: 13437461 | E15: 13837627 | F15: 11996062
A16: 3.1 | B16: Adquisición de activos no financieros | C16: 460803.66 | D16: 445985.98 | E16: 389555.52 | F16: 365101.03
A17: 3.2 | B17: Iniciativas de inversión | C17: 4563984.3 | D17: 4695413.2 | E17: 4588329.8 | F17: 4246483.1
A18: 3.3 | B18: Transferencias de capital | C18: 7576449.7 | D18: 8296061.6 | E18: 8859741.4 | F18: 7384477.8
A19: 3.3.1 | B19: Al sector privado | C19: 5158156.5 | D19: 6003670.5 | E19: 6765639.7 | F19: 5239174.8
... A29: 7. | B29: Gasto del Gobierno Central extrapresupuestario | C29: 288.33766 | D29: 99.14134 | E29: 30.423673 | F29: 8.285955
A30: (p) Proyección.
A31: Fuente: Dipres.

Sheet C III.7.3
A1: Cuadro III.7.3
A2: Proyectos de ley en trámite considerados en la programación financiera 2028-2031
A4: Proyectos de Ley en trámite
A5: Autoriza erigir un monumento, en la comuna de Lota, en memoria del escritor chileno Baldomero Lillo Figueroa
A6: Ley de Patrimonio Cultural
A7: Modifica la ley N°17.336, sobre Propiedad Intelectual, con el objeto de regular las medidas tecnológicas de protección
A8: Crea la Comisión de Comercio Estratégico y regula la exportación de material de uso dual y de defensa y otras materias que indica.
A9: Equipara el derecho de sala cuna para las trabajadoras, los trabajadores y los independientes que indica, en las condiciones que establece, modifica el Código del Trabajo para tales efectos y crea un fondo solidario de sala cuna.
A10: Modifica la ley N°21.325, de migración y extranjería, para tipificar el delito de ingreso clandestino al territorio nacional
A11: Modifica el Código Penal en materia de quebrantamiento de condena y forma de computar el plazo de prescripción de la pena
A12: Modifica el Decreto Ley N° 1939, de 1977, sobre normas de adquisición, administración y disposición de bienes del Estado, con el objeto de que se informe sobre la situación de los bienes destinados que se indican.
A13: Modifica la ley N°20.084, que establece un sistema de responsabilidad de los adolescentes por infracciones a la ley penal, para fortalecer la respuesta sancionatoria frente a conductas consideradas de especial gravedad
... A83: Fuente: Dipres.

Sheet C III.8.1
A1: Cuadro III.8.1
A2: Balances del Gobierno Central total 2028-2031 (p)
A3: (millones de pesos 2027 y % del PIB)
C5: 2028 | D5: 2029 | E5: 2030 | F5: 2031
A6: (1) | B6: Ingresos efectivos | C6: 85014000 | D6: 86690367 | E6: 88440863 | F6: 90939502
A7: (2) | B7: Gastos de mediano plazo | C7: 92922047 | D7: 95361358 | E7: 97161665 | F7: 95734968
A8: (3) | B8: Ingresos cíclicamente ajustados | C8: 84409275 | D8: 85273643 | E8: 85779766 | F8: 87157184
A9: (4) | B9: Meta BCA (% del PIB) | C9: -1.7 | D9: -1.6 | E9: -1.5 | F9: -1.4
A10: (5) | B10: Nivel de gasto compatible con meta | C10: 91075197 | D10: 91693281 | E10: 91955623 | F10: 93078183
A11: (6) | B11: Diferencia gasto / Holgura (5)-(2) | C11: -1846850.7 | D11: -3668076.4 | E11: -5206042.6 | F11: -2656785.5
A12: (7) | B12: Diferencia gasto (MMUS$) | C12: -2136.3878 | D12: -4369.4387 | E12: -6390.0201 | F12: -3360.2308
A13: (8) | B13: Diferencia gasto (% del PIB) | C13: -0.47099959 | D13: -0.91421396 | E13: -1.2644502 | F13: -0.6281879
A14: (9) | B14: Balance efectivo compatible con meta (1)-(5) (% del PIB) | C14: -1.5457781 | D14: -1.2469025 | E14: -0.85366939 | F14: -0.50568378
A15: (p) Proyección.
A16: Fuente: Dipres

Sheet C III.9.1
A1: Cuadro III.9.1
A2: Stock de deuda bruta 2026-2030 (p)
A3: Descomposición diferencias IFP 3T26 – 2T26
A4: (% del PIB)
B6: 2026 | C6: 2027 | D6: 2028 | E6: 2029 | F6: 2030
A7: IFP 2T26 | B7: 42.660731 | C7: 43.530959 | D7: 44.542831 | E7: 45.263883 | F7: 45.476659
A8: Valorización(1) | B8: 0.15883189 | C8: -0.16606577 | D8: -0.018601283 | E8: -0.059853693 | F8: -0.073796462
A9: PIB nominal(2) | B9: -0.52863205 | C9: -0.60268978 | D9: -0.77993719 | E9: -1.0360364 | F9: -1.3834654
A10: Requerimientos bajo la línea(3) | B10: 0.57450428 | C10: -0.35739506 | D10: -0.62094421 | E10: -1.0975423 | F10: -1.8015778
A11: Balance(4) | B11: -0.17036753 | C11: 0.096915756 | D11: 0.37301025 | E11: 0.93288294 | F11: 1.7435981
A12: IFP 3T26 | B12: 42.695068 | C12: 42.501724 | D12: 43.496358 | E12: 44.003334 | F12: 43.961417
A13: (1) Cambios en el valor del stock de deuda por variaciones del tipo de cambio (dólar y euro) y de la inflación (UF). Se calcula como residuo.
A15: (2) Efecto del cambio en el PIB nominal sobre la razón deuda/PIB, manteniendo constante el stock de deuda.
A16: (3) Requerimientos de financiamiento distintos del déficit, netos de amortizaciones y del uso de activos financieros.
A18: (4) Efecto del cambio en el déficit efectivo proyectado.
A19: (p) Proyección.
A20: Fuente: Dipres.

Sheet C III.9.2
A1: Cuadro III.9.2
A2: Necesidades de financiamiento del Gobierno Central, cierre 2028-2031 (p)
A3: (millones de pesos 2027)
C5: 2028 | D5: 2029 | E5: 2030 | F5: 2031
A6: Usos | B6: Necesidades de financiamiento | C6: 24175971 | D6: 20785194 | E6: 22176859 | F6: 13877208
B7: Déficit efectivo | C7: 7908047.6 | D7: 8670990.5 | E7: 8720802.8 | F7: 4795466.1
B8: Amortizaciones de deuda | C8: 13566272 | D8: 10571391 | E8: 13237414 | F8: 7459787.2
B9: Ejecución garantía CAE | C9: 289040.7 | D9: 295395.38 | E9: 281589.2 | F9: 274911.43
B10: Compra cartera CAE | C10: 528685.66 | D10: 557731.26 | E10: 577843.61 | F10: 591495.21
B11: Bonos de reconocimiento | C11: 46076.611 | D11: 38177.807 | E11: 34192.991 | F11: 31149.146
B12: Acciones multilaterales | C12: 102219.67 | D12: 99264.856 | E12: 96335.927 | F12: 93491.078
B13: Aportes empresas públicas | C13: 468262.52 | D13: 490882.3 | E13: 520959.85 | F13: 543153.64
B14: Compra de títulos y valores de los servicios | C14: 379857.08 | D14: 688942.78 | E14: 699065.39 | F14: 706719.08
B15: Operación fondos del Tesoro Público¹ | C15: 673315.41 | D15: 661315.48 | E15: 648962.35 | F15: 451114.92
B16: Préstamos netos (otorgamiento − recuperación) | C16: 214193.17 | D16: -1288897.2 | E16: -2640307.5 | F16: -1070079.9
A17: Fuentes | B17: Fuentes de financiamiento | C17: 24175971 | D17: 20785194 | E17: 22176859 | F17: 13877208
B18: Superávit efectivo | C18: 0 | D18: 0 | E18: 0 | F18: 0
B19: Emisión de deuda | C19: 23229661 | D19: 19730414 | E19: 21151330 | F19: 12746593
B20: Uso de activos financieros | C20: 308721.09 | D20: 431703.17 | E20: 346946.87 | F20: 364343.95
B21: Venta de activos financieros de los servicios | C21: 637588.85 | D21: 623077.11 | E21: 678582.33 | F21: 766271.1
A22: (1): Incluye la cuota del Banco Central de Chile (Decreto N°1.526 de 2010 del Ministerio de Hacienda).
A23: (p) Proyección.
A24: Fuente: Dipres.

Sheet C III.10.1
A1: Cuadro III.10.1
A2: Posición financiera neta del Gobierno Central total, cierre 2028-2031 (p)
A3: (millones US$ al 31 de diciembre de cada año y % del PIB)
B5: 2028 | D5: 2029 | F5: 2030 | H5: 2031
B6: MMUS$ | C6: % del PIB | D6: MMUS$ | E6: % del PIB | F6: MMUS$ | G6: % del PIB | H6: MMUS$ | I6: % del PIB
A7: Activos del tesoro público | B7: 17163.718 | C7: 3.7944093 | D7: 17325.591 | E7: 3.6296262 | F7: 17608.045 | G7: 3.4894511 | H7: 17716.717 | I7: 3.3196536
A8: Deuda bruta | B8: 197145.75 | C8: 43.496358 | D8: 210293.48 | E8: 44.003334 | F8: 222096.1 | G8: 43.961417 | H8: 230982.51 | I8: 43.179446
A9: Posición financiera neta | B9: -179982.03 | C9: -39.701949 | D9: -192967.89 | E9: -40.373707 | F9: -204488.05 | G9: -40.471966 | H9: -213265.79 | I9: -39.859792
A10: (p) Proyección.
A11: Fuente: Dipres.

Sheet C III.11.1
A1: Cuadro III.11.1
A2: Escenarios macroeconómicos alternativos 2027-2031 (p)
A4: Escenario | C4: 2027 | D4: 2028 | E4: 2029 | F4: 2030 | G4: 2031
A5: Escenario base | B5: PIB (var. real anual, %) | C5: 3.2688122 | D5: 2.8256122 | E5: 3.2186996 | F5: 3.5487003 | G5: 3.4680347
B6: PIB minero (var. real anual, %) | C6: 2.941504 | D6: 1.102876 | E6: 1.2957476 | F6: 1.5057776 | G6: 2.2299464
B7: PIB no minero (var. real anual, %) | C7: 3.3317049 | D7: 3.1228761 | E7: 3.526447 | F7: 3.8577425 | G7: 3.6447048
B8: Demanda interna (var. real anual, %) | C8: 4.163862 | D8: 3.8454956 | E8: 4.2943057 | F8: 4.4380685 | G8: 4.4817854
B9: IPC (var. anual, % promedio) | C9: 2.8751508 | D9: 3.0440623 | E9: 2.9686648 | F9: 3.0454534 | G9: 3.0454534
B10: Precio del cobre (USc$/lb, promedio, BML) | C10: 564.84057 | D10: 560.46786 | E10: 560.46786 | F10: 560.46786 | G10: 560.46786
B11: Precio del WTI (US$/bbl, promedio) | C11: 75.108677 | D11: 71.04931 | E11: 71.04931 | F11: 71.04931 | G11: 71.04931
B12: Precio del litio (US$/kg) | C12: 18 | D12: 17 | E12: 16 | F12: 15 | G12: 15
B13: TCN ($/US$, promedio, valor nominal) | C13: 885.90525 | D13: 890.7886 | E13: 890.71914 | F13: 890.76344 | G13: 890.78542
A14: Escenario menor crecimiento | B14: PIB (var. real anual, %) | C14: 3.0427778 | D14: 2.4196796 | E14: 2.4341609 | F14: 2.554668 | G14: 2.843263
B15: PIB minero (var. real anual, %) | C15: 3.505475 | D15: 0.76479458 | E15: 0.79875953 | F15: 0.84860683 | G15: 1.9660455
B16: PIB no minero (var. real anual, %) | C16: 2.9533704 | D16: 2.7079299 | E16: 2.6998883 | F16: 2.8175917 | G16: 2.9713163
B17: Demanda interna (var. real anual, %) | C17: 4.3239786 | D17: 3.5517979 | E17: 3.3982334 | F17: 3.4339993 | G17: 3.4701309
B18: IPC (var. anual, % promedio) | C18: 3.0707994 | D18: 3.0440623 | E18: 2.9686648 | F18: 3.0454534 | G18: 3.0454534
B19: Precio del cobre (USc$/lb, promedio, BML) | C19: 560 | D19: 550 | E19: 550 | F19: 550 | G19: 550
B20: Precio del WTI (US$/bbl, promedio) | C20: 77.039121 | D20: 74.022873 | E20: 74.022873 | F20: 74.022873 | G20: 74.022873
B21: Precio del litio (US$/kg) | C21: 18 | D21: 17 | E21: 16 | F21: 15 | G21: 15
B22: TCN ($/US$, promedio, valor nominal) | C22: 899.80145 | D22: 895.04208 | E22: 894.59327 | F22: 894.63777 | G22: 894.65985
A23: Escenario mayor crecimiento | B23: PIB (var. real anual, %) | C23: 3.549255 | D23: 3.0595212 | E23: 3.3240504 | F23: 3.7364463 | G23: 4.0496133
B24: PIB minero (var. real anual, %) | C24: 3.8817532 | D24: 1.3521215 | E24: 1.7750096 | F24: 2.2062326 | G24: 3.3528547
B25: PIB no minero (var. real anual, %) | C25: 3.4854694 | D25: 3.355875 | E25: 3.5736822 | F25: 3.9705307 | G25: 4.1507429
B26: Demanda interna (var. real anual, %) | C26: 4.2855501 | D26: 4.1071273 | E26: 4.4361187 | F26: 4.669218 | G26: 5.0639161
B27: IPC (var. anual, % promedio) | C27: 2.8751508 | D27: 3.0440623 | E27: 2.9686648 | F27: 3.0454534 | G27: 3.0454534
B28: Precio del cobre (USc$/lb, promedio, BML) | C28: 569.68769 | D28: 565.45819 | E28: 565.45819 | F28: 565.45819 | G28: 565.45819
B29: Precio del WTI (US$/bbl, promedio) | C29: 73.451872 | D29: 68.058943 | E29: 68.058943 | F29: 68.058943 | G29: 68.058943
B30: Precio del litio (US$/kg) | C30: 18 | D30: 17 | E30: 16 | F30: 15 | G30: 15
B31: TCN ($/US$, promedio, valor nominal) | C31: 879.56712 | D31: 874.52469 | E31: 874.52469 | F31: 874.52469 | G31: 874.52469
A32: (p) Proyección.
A33: Fuente: Ministerio de Hacienda.

Sheet C III.11.2
A1: Cuadro III.11.2
A2: Balances del Gobierno Central total 2028-2031, escenario de menor crecimiento (p)
A3: (millones de pesos 2027 y % del PIB)
C5: 2028 | D5: 2029 | E5: 2030 | F5: 2031
A6: (1) | B6: Ingresos efectivos | C6: 84413584 | D6: 85553028 | E6: 86620458 | F6: 88452444
A7: (2) | B7: Gastos de mediano plazo | C7: 92922047 | D7: 95361358 | E7: 97161665 | F7: 95734968
A8: (3) | B8: Ingresos cíclicamente ajustados | C8: 84748932 | D8: 85822469 | E8: 86583460 | F8: 87920748
A9: (4) | B9: Meta BCA (% del PIB) | C9: -1.7 | D9: -1.6 | E9: -1.5 | F9: -1.4
A10: (5) | B10: Nivel de gasto compatible con meta | C10: 91342354 | D10: 92121789 | E10: 92581871 | F10: 93635150
A11: (6) | B11: Diferencia gasto / Holgura (5)-(2) | C11: -1579693.5 | D11: -3239568.7 | E11: -4579794.1 | F11: -2099818.7
A12: (7) | B12: Diferencia gasto (MMUS$) | C12: -1818.6634 | D12: -3842.2854 | E12: -5597.0039 | F12: -2644.293
A13: (8) | B13: Diferencia gasto (% del PIB) | C13: -0.40729671 | D13: -0.82283649 | E13: -1.1452518 | F13: -0.51444513
A14: (9) | B14: Balance efectivo compatible con meta (1)-(5) (% del PIB) | C14: -1.7864637 | D14: -1.6684371 | E14: -1.4907481 | F14: -1.2697372
A15: (p) Proyección.
A16: Fuente: Dipres

Sheet C III.11.3
A1: Cuadro III.11.3
A2: Balances del Gobierno Central total 2028-2031, escenario de mayor crecimiento (p)
A3: (millones de pesos 2027 y % del PIB)
C5: 2028 | D5: 2029 | E5: 2030 | F5: 2031
A6: (1) | B6: Ingresos efectivos | C6: 85406676 | D6: 87189206 | E6: 89037042 | F6: 92077417
A7: (2) | B7: Gastos de mediano plazo | C7: 92922047 | D7: 95361358 | E7: 97161665 | F7: 95734968
A8: (3) | B8: Ingresos cíclicamente ajustados | C8: 84347079 | D8: 85298359 | E8: 85784945 | F8: 87167020
A9: (4) | B9: Meta BCA (% del PIB) | C9: -1.7 | D9: -1.6 | E9: -1.5 | F9: -1.4
A10: (5) | B10: Nivel de gasto compatible con meta | C10: 91050329 | D10: 91760265 | E10: 92012156 | F10: 93161789
A11: (6) | B11: Diferencia gasto / Holgura (5)-(2) | C11: -1871718.1 | D11: -3601092.8 | E11: -5149509.8 | F11: -2573179.7
A12: (7) | B12: Diferencia gasto (MMUS$) | C12: -2205.4202 | D12: -4369.0829 | E12: -6437.996 | F12: -3315.0018
A13: (8) | B13: Diferencia gasto (% del PIB) | C13: -0.4746833 | D13: -0.89164854 | E13: -1.2404052 | F13: -0.60093254
A14: (9) | B14: Balance efectivo compatible con meta (1)-(5) (% del PIB) | C14: -1.4312773 | D14: -1.131817 | E14: -0.71664042 | F14: -0.25324075
A15: (p) Proyección.
A16: Fuente: Dipres

Sheet C III.11.4
A1: Cuadro III.11.4
A2: Posición financiera neta del Gobierno Central total, cierre 2028-2031 (p)
A3: (millones US$ al 31 de diciembre de cada año y % del PIB)
B5: 2028 | D5: 2029 | F5: 2030 | H5: 2031
B6: MMUS$ | C6: % del PIB | D6: MMUS$ | E6: % del PIB | F6: MMUS$ | G6: % del PIB | H6: MMUS$ | I6: % del PIB
A7: Escenario base
A8: Activos del tesoro público | B8: 17163.718 | C8: 3.7944093 | D8: 17325.591 | E8: 3.6296262 | F8: 17608.045 | G8: 3.4894511 | H8: 17716.717 | I8: 3.3196536
A9: Deuda bruta | B9: 197145.75 | C9: 43.496358 | D9: 210293.48 | E9: 44.003334 | F9: 222096.1 | G9: 43.961417 | H9: 230982.51 | I9: 43.179446
A10: Posición financiera neta | B10: -179982.03 | C10: -39.701949 | D10: -192967.89 | E10: -40.373707 | F10: -204488.05 | G10: -40.471966 | H10: -213265.79 | I10: -39.859792
A11: Escenario menor crecimiento
A12: Activos del tesoro público | B12: 17155.155 | C12: 3.849631 | D12: 17317.336 | E12: 3.7129374 | F12: 17600.52 | G12: 3.6056588 | H12: 17708.016 | I12: 3.4531027
A13: Deuda bruta | B13: 197555.1 | C13: 44.243229 | D13: 211985.49 | E13: 45.397303 | F13: 226028.1 | G13: 46.249581 | H13: 238014.21 | I13: 46.305477
A14: Posición financiera neta | B14: -180399.95 | C14: -40.393598 | D14: -194668.15 | E14: -41.684365 | F14: -208427.58 | G14: -42.643922 | H14: -220306.19 | I14: -42.852374
A15: Escenario mayor crecimiento
A16: Activos del tesoro público | B16: 17227.747 | C16: 3.7154244 | D16: 17383.11 | E16: 3.5517712 | F16: 17664.595 | G16: 3.4074679 | H16: 17774.702 | I16: 3.2296527
A17: Deuda bruta | B17: 198900.18 | C17: 42.810253 | D17: 211570.06 | E17: 43.177513 | F17: 222859.07 | G17: 42.938137 | H17: 230364.73 | I17: 41.759754
A18: Posición financiera neta | B18: -181672.43 | C18: -39.094828 | D18: -194186.95 | E18: -39.625742 | F18: -205194.47 | G18: -39.530669 | H18: -212590.03 | I18: -38.530102
